{"text_format":"1","workbook":"xlsx","n_sheets":5,"sheets":["情報入力","シミュレーション","支払い計画表","シミュレーション※金額入力可能","支払い計画表※金額入力可能"],"not_rendered":{"charts":0,"images":0,"macros":1,"external_links":0,"defined_names":38,"comments":0,"pivot_tables":0},"unopened":[],"bounds":{"document_bytes":16777216,"sheet_cells":100000,"rows_first":2000,"rows_last":500,"rows_between":2000,"halvings":0,"cell_chars":16384,"cell_head_chars":4096},"cells_cut":0,"cells_raw":0,"read":"whole","date_system":"1900"}

{"sheet":"情報入力","index":0,"n_rows":235,"n_cols":32,"rows_kept":235,"cut":false,"hidden":false,"merged":[[38,4,38,5]]}
["学校情報"]
["学校名",null,"課程"]
["学科名",null,{"$f":"IFERROR(VLOOKUP($B$3,$M$6:$AD$267,2,FALSE),\"\")","v":""}]
[]
["学年","費用項目","費用",null,null,null,null,null,"費用",null,null,null,"学科名","課程","入学金","入学時手続金","1年次教材費","後期学費","1年次併修費","2年次学費","2年次教材費","2年次併修費","3年次学費","3年次教材費","3年次併修費","4年次学費","4年次教材費","4年次併修費","海外研修費"]
["1年次","入学金",{"$f":"IFERROR(VLOOKUP($B$3,$M$6:$AD$267,3,FALSE),0)","v":0},"円",null,null,null,null,{"$f":"IFERROR(VLOOKUP($B$3,$M$6:$AD$267,3,FALSE),0)","v":0},"新潟ビジネス専門学校",null,null,"医療秘書・事務学科",2,70000,520000,290000,370000,0,890000,290000,0,0,0,0,0,0,0,211000,1,null,"新潟ビジネス専門学校"]
[null,"入学手続時納入金",{"$f":"IFERROR(VLOOKUP($B$3,$M$6:$AD$267,4,FALSE),0)","v":0},"円",null,null,null,null,{"$f":"IFERROR(VLOOKUP($B$3,$M$6:$AD$267,4,FALSE),0)","v":0},"新潟会計ビジネス専門学校",null,null,"ＩＴ医療情報学科",2,70000,520000,290000,370000,0,890000,290000,0,0,0,0,0,0,0,211000,1,null,"新潟ビジネス専門学校"]
[null,"諸経費（教材費など）",{"$f":"IFERROR(VLOOKUP($B$3,$M$6:$AD$267,5,FALSE),0)","v":0},"円","※概算額",null,null,null,{"$f":"IFERROR(VLOOKUP($B$3,$M$6:$AD$267,5,FALSE),0)","v":0},"新潟公務員法律専門学校",null,null,"美容・スキンケアアドバイザー学科",2,70000,520000,270000,370000,0,890000,270000,0,0,0,0,0,0,0,211000,1,null,"新潟ビジネス専門学校"]
[null,"後期（Ⅱ期）学費",{"$f":"IFERROR(VLOOKUP($B$3,$M$6:$AD$267,6,FALSE),0)","v":0},"円",null,null,null,null,{"$f":"IFERROR(VLOOKUP($B$3,$M$6:$AD$267,6,FALSE),0)","v":0},"新潟コンピュータ専門学校",null,null,"医薬品・登録販売者学科",2,70000,520000,270000,370000,0,890000,270000,0,0,0,0,0,0,0,211000,1,null,"新潟ビジネス専門学校"]
[null,"併修費",{"$f":"IFERROR(VLOOKUP($B$3,$M$6:$AD$267,7,FALSE),0)","v":0},"円",null,null,null,null,{"$f":"IFERROR(VLOOKUP($B$3,$M$6:$AD$267,7,FALSE),0)","v":0},"新潟デザイン専門学校",null,null,"ビジネス秘書・事務学科",2,70000,530000,290000,380000,0,910000,290000,0,0,0,0,0,0,0,211000,1,null,"新潟ビジネス専門学校"]
[null,"1年目の学費計",{"$f":"SUM(C6:C10)","v":0},"円",null,null,null,null,{"$f":"SUM(I6:I10)","v":0},"長岡公務員・情報ビジネス専門学校",null,null,"オフィスビジネス学科",2,70000,530000,290000,380000,0,910000,290000,0,0,0,0,0,0,0,211000,1,null,"新潟ビジネス専門学校"]
["学年","費用項目","費用",null,null,null,null,null,"費用","長岡こども・医療・介護専門学校",null,null,"イベントビジネス学科",2,70000,530000,290000,380000,0,910000,290000,0,0,0,0,0,0,0,211000,1,null,"新潟ビジネス専門学校"]
["2年次","進級時学費",{"$f":"IFERROR(VLOOKUP($B$3,$M$6:$AD$267,8,FALSE),0)","v":0},"円",null,null,null,null,{"$f":"IFERROR(VLOOKUP($B$3,$M$6:$AD$267,8,FALSE),0)","v":0},"全日本ウィンタースポーツ専門学校",null,null,"ゲーム・eスポーツビジネス学科",2,70000,530000,260000,380000,0,910000,260000,0,0,0,0,0,0,0,211000,1,null,"新潟ビジネス専門学校"]
[null,"諸経費（教材費など）",{"$f":"IFERROR(VLOOKUP($B$3,$M$6:$AD$267,9,FALSE),0)","v":0},"円","※概算額",null,null,null,{"$f":"IFERROR(VLOOKUP($B$3,$M$6:$AD$267,9,FALSE),0)","v":0},"日本アニメ・マンガ専門学校",null,null,"データサイエンス学科",2,70000,530000,290000,380000,0,910000,290000,0,0,0,0,0,0,0,211000,1,null,"新潟ビジネス専門学校"]
[null,"併修費",{"$f":"IFERROR(VLOOKUP($B$3,$M$6:$AD$267,10,FALSE),0)","v":0},"円",null,null,null,null,{"$f":"IFERROR(VLOOKUP($B$3,$M$6:$AD$267,10,FALSE),0)","v":0},"国際ビューティモード専門学校",null,null,"販売・マーケティング学科",2,70000,520000,270000,370000,0,890000,270000,0,0,0,0,0,0,0,211000,1,null,"新潟ビジネス専門学校"]
[null,"2年目の学費計",{"$f":"SUM(C13:C15)","v":0},"円",null,null,null,null,{"$f":"SUM(I13:I15)","v":0},"国際自然環境アウトドア専門学校",null,null,"事業創造学科",2,70000,430000,240000,280000,0,710000,240000,0,0,0,0,0,0,0,211000,1,null,"新潟ビジネス専門学校"]
["学年","費用項目","費用",null,null,null,null,null,"費用","伝統文化と環境福祉の専門学校",null,null,"大学併修事業創造学科",4,70000,430000,240000,280000,240000,710000,240000,200000,710000,240000,200000,710000,240000,200000,211000,1,null,"新潟ビジネス専門学校"]
["3年次","進級時学費",{"$f":"IFERROR(VLOOKUP($B$3,$M$6:$AD$267,11,FALSE),0)","v":0},"円",null,null,null,null,{"$f":"IFERROR(VLOOKUP($B$3,$M$6:$AD$267,11,FALSE),0)","v":0},"上越公務員・情報ビジネス専門学校",null,null,"ビジネスライセンス学科",1,70000,520000,340000,370000,0,0,0,0,0,0,0,0,0,0,211000,1,null,"新潟ビジネス専門学校"]
[null,"諸経費（教材費など）",{"$f":"IFERROR(VLOOKUP($B$3,$M$6:$AD$267,12,FALSE),0)","v":0},"円","※概算額",null,null,null,{"$f":"IFERROR(VLOOKUP($B$3,$M$6:$AD$267,12,FALSE),0)","v":0},"国際トータルファッション専門学校",null,null,"経理ビジネス学科",2,70000,530000,312000,380000,0,910000,346000,0,0,0,0,0,0,0,211000,1,null,"新潟会計ビジネス専門学校"]
[null,"併修費",{"$f":"IFERROR(VLOOKUP($B$3,$M$6:$AD$267,13,FALSE),0)","v":0},"円",null,null,null,null,{"$f":"IFERROR(VLOOKUP($B$3,$M$6:$AD$267,13,FALSE),0)","v":0},"国際こども・福祉カレッジ",null,null,"ITビジネス総合学科",2,70000,530000,312000,380000,0,910000,346000,0,0,0,0,0,0,0,211000,1,null,"新潟会計ビジネス専門学校"]
[null,"3年目の学費計",{"$f":"SUM(C18:C20)","v":0},"円",null,null,null,null,{"$f":"SUM(I18:I20)","v":0},"新潟工科専門学校",null,null,"税理士学科　４年制",4,70000,530000,312000,380000,0,910000,346000,0,580000,346000,0,580000,346000,0,211000,1,null,"新潟会計ビジネス専門学校"]
["学年","費用項目","費用",null,null,null,null,null,"費用","国際メディカル専門学校",null,null,"税理士学科　３年制",3,70000,530000,312000,380000,0,910000,346000,0,580000,346000,0,0,0,0,211000,1,null,"新潟会計ビジネス専門学校"]
["4年次","進級時学費",{"$f":"IFERROR(VLOOKUP($B$3,$M$6:$AD$267,14,FALSE),0)","v":0},"円",null,null,null,null,{"$f":"IFERROR(VLOOKUP($B$3,$M$6:$AD$267,14,FALSE),0)","v":0},"アップルスポーツカレッジ",null,null,"税理士学科　２年制",2,70000,530000,312000,380000,0,910000,346000,0,0,0,0,0,0,0,211000,1,null,"新潟会計ビジネス専門学校"]
[null,"諸経費（教材費など）",{"$f":"IFERROR(VLOOKUP($B$3,$M$6:$AD$267,15,FALSE),0)","v":0},"円","※概算額",null,null,null,{"$f":"IFERROR(VLOOKUP($B$3,$M$6:$AD$267,15,FALSE),0)","v":0},"国際音楽・ダンス・エンタテイメント専門学校",null,null,"税理士学科　4年制　大学併修コース",4,70000,530000,312000,380000,240000,910000,346000,200000,580000,346000,200000,580000,346000,200000,211000,1,null,"新潟会計ビジネス専門学校"]
[null,"併修費",{"$f":"IFERROR(VLOOKUP($B$3,$M$6:$AD$267,16,FALSE),0)","v":0},"円",null,null,null,null,{"$f":"IFERROR(VLOOKUP($B$3,$M$6:$AD$267,16,FALSE),0)","v":0},"国際ペットワールド専門学校",null,null,"金融マーケティング学科",2,70000,530000,312000,380000,0,910000,346000,0,0,0,0,0,0,0,211000,1,null,"新潟会計ビジネス専門学校"]
[null,"4年目の学費計",{"$f":"SUM(C23:C25)","v":0},"円",null,null,null,null,{"$f":"SUM(I23:I25)","v":0},"ＪＡＰＡＮサッカーカレッジ",null,null,"医療事務学科",2,70000,530000,312000,380000,0,910000,346000,0,0,0,0,0,0,0,211000,1,null,"新潟会計ビジネス専門学校"]
["他","海外研修旅行費",{"$f":"IFERROR(VLOOKUP($B$3,$M$6:$AD$267,17,FALSE),\"\")","v":""},"円",{"$f":"IFERROR(VLOOKUP($B$3,$M$6:$AD$267,18,FALSE)&\"\",\"\")","v":""},null,null,null,{"$f":"IFERROR(VLOOKUP($B$3,$M$6:$AD$267,17,FALSE),\"\")","v":""},"国際ホテル・ブライダル専門学校",null,null,"会計ライセンス学科",1,70000,275000,312000,175000,0,0,0,0,0,0,0,0,0,0,211000,1,null,"新潟会計ビジネス専門学校"]
[null,"その他費用",{"$f":"SUM(C27)","v":0},"円","※海外研修旅行費は",null,null,null,{"$f":"SUM(I27)","v":0},"専門学校新潟国際自動車大学校",null,null,"公務員ビジネス学科",2,90000,545000,188000,355000,0,900000,237000,0,0,0,0,0,0,0,250000,1,null,"新潟公務員法律専門学校"]
[null,"納入学費の総合計",{"$f":"C11+C16+C21+C26+C28","v":0},"円","コースによって金額変動します。",null,null,null,{"$f":"I11+I16+I21+I26+I28","v":0},"国際外語・観光・エアライン専門学校",null,null,"警察・消防学科",2,90000,545000,175000,355000,0,900000,236000,0,0,0,0,0,0,0,250000,1,null,"新潟公務員法律専門学校"]
[{"$f":"IFERROR(VLOOKUP($B$3,$M$6:$AE$267,19,FALSE)&\"\",\"\")","v":""},null,null,null,null,null,null,null,null,"国際調理製菓専門学校",null,null,"公務員速修学科",1,90000,545000,245000,355000,0,0,0,0,0,0,0,0,0,0,250000,1,null,"新潟公務員法律専門学校"]
[null,"入学前に必要な学費の総合計",{"$f":"SUM(C6:C7)","v":0},"円",null,null,null,null,null,"国際映像メディア専門学校",null,null,"公務員通信教育科　2年制",2,90000,270000,200000,220000,0,490000,90000,0,0,0,0,0,0,0,250000,1,null,"新潟公務員法律専門学校"]
[null,"入学後に必要となる学費の総合計",{"$f":"C29-C31","v":0},"円",null,null,null,null,null,"新潟農業・バイオ専門学校",null,null,"公務員通信教育科　1年制",1,90000,270000,200000,220000,0,0,0,0,0,0,0,0,0,0,250000,1,null,"新潟公務員法律専門学校"]
[null,null,null,null,null,null,null,null,null,"新潟法律大学校",null,40000,"AＩシステム科　3年制",3,70000,675000,280000,335000,0,1010000,280000,0,1010000,280000,0,0,0,0,408000,3,null,"新潟コンピュータ専門学校"]
[null,null,null,null,null,null,null,null,null,"三条看護・医療・歯科衛生専門学校",20000,50000,"ＡＩシステム科　2年制",2,70000,675000,280000,335000,0,1010000,280000,0,0,0,0,0,0,0,408000,2,null,"新潟コンピュータ専門学校"]
["お支払い情報",null,null,null,null,null,null,null,null,null,30000,60000,"情報システム科　３年制",3,70000,675000,280000,335000,0,1010000,280000,0,1010000,280000,0,0,0,0,408000,3,null,"新潟コンピュータ専門学校"]
[null,null,null,null,null,null,null,null,null,null,40000,70000,"情報システム科　２年制",2,70000,675000,280000,335000,0,1010000,280000,0,0,0,0,0,0,0,408000,2,null,"新潟コンピュータ専門学校"]
[null,null,null,null,null,null,null,null,null,null,50000,73000,"ゲームクリエーター科　３年制",3,70000,715000,280000,335000,0,1050000,280000,0,1050000,280000,0,0,0,0,408000,3,null,"新潟コンピュータ専門学校"]
[null,null,null,null,"種類",null,null,null,null,null,53000,80000,"ゲームクリエーター科　２年制",2,70000,715000,280000,335000,0,1050000,280000,0,0,0,0,0,0,0,408000,2,null,"新潟コンピュータ専門学校"]
["Q","日本学生支援機構奨学金　月額の種類・学費支払額",null,null,null,null,null,"円",null,null,60000,83000,"キャラクターデザイン科　3年制",3,70000,715000,280000,335000,0,1050000,280000,0,1050000,280000,0,0,0,0,408000,3,null,"新潟コンピュータ専門学校"]
[null,"※機関保証制度を選択の場合、貸与月額の約５％が保証料として差し引かれ、振り込まれます。",null,null,null,null,null,null,null,null,20000,90000,"キャラクターデザイン科　2年制",2,70000,715000,280000,335000,0,1050000,280000,0,0,0,0,0,0,0,408000,2,null,"新潟コンピュータ専門学校"]
[null,null,"奨学金ご利用予定：","第一種奨学金",null,null,null,"円",null,null,30000,93000,"eスポーツ科　３年制",3,70000,715000,280000,335000,0,1050000,280000,0,1050000,280000,0,0,0,0,408000,3,null,"新潟コンピュータ専門学校"]
[null,null,null,"第二種奨学金",null,null,null,"円",null,null,40000,100000,"eスポーツ科　２年制",2,70000,715000,280000,335000,0,1050000,280000,0,0,0,0,0,0,0,408000,2,null,"新潟コンピュータ専門学校"]
[null,null,null,"給付奨学金",null,null,null,"円",null,null,50000,103000,"ＣＧ・Ｗｅｂクリエーター科　３年制",3,70000,715000,280000,335000,0,1050000,280000,0,1050000,280000,0,0,0,0,408000,3,null,"新潟コンピュータ専門学校"]
[null,null,null,null,null,null,null,null,null,null,60000,110000,"ＣＧ・Ｗｅｂクリエーター科　２年制",2,70000,715000,280000,335000,0,1050000,280000,0,0,0,0,0,0,0,408000,2,null,"新潟コンピュータ専門学校"]
["Q","日本学生支援機構奨学金　入学時特別増額の学費支払額",null,null,null,null,null,"円",null,null,70000,113000,"IT総合学科",4,70000,675000,280000,335000,0,1010000,280000,0,1010000,280000,0,1010000,280000,0,408000,4,null,"新潟コンピュータ専門学校"]
[null,"※機関保証制度を選択の場合、貸与月額の約５％が保証料として差し引かれ、振り込まれます。",null,null,null,null,null,null,null,null,80000,120000,"大学併修科",4,70000,675000,280000,335000,0,1010000,280000,0,1010000,280000,0,1010000,280000,0,408000,4,"※大学併修費用は分割計画に含まれていません。別途大学へご納入ください。","新潟コンピュータ専門学校"]
[null,null,null,null,null,null,null,null,null,null,90000,123000,"デジタルデザイン科",3,70000,695000,320000,415000,0,1110000,240000,0,765000,170000,0,0,0,0,300000,2,null,"新潟デザイン専門学校"]
["Q","入学手続時納入金のお支払いについて",null,null,null,null,"分納",null,null,null,100000,130000,"グラフィックデザイン科\r",2,70000,695000,320000,415000,0,1110000,240000,0,0,0,0,0,0,0,300000,2,null,"新潟デザイン専門学校"]
[null,"分納希望の場合、入学手続時納入金納入期日までに納入可能な金額",null,null,null,null,"全納か分納を指定",null,null,null,110000,133000,"イラストレーション科\r",2,70000,695000,320000,415000,0,1110000,240000,0,0,0,0,0,0,0,300000,2,null,"新潟デザイン専門学校"]
[null,null,null,null,"頭金（必須）：",null,50000,"円",null,null,120000,140000,"キャラクターイラストデザイン科\r",2,70000,695000,320000,415000,0,1110000,240000,0,0,0,0,0,0,0,300000,2,null,"新潟デザイン専門学校"]
[null,null,null,null,null,null,"＋",null,null,null,100000,143000,"美術・造形デザイン科\r",2,70000,685000,320000,425000,0,1110000,240000,0,0,0,0,0,0,0,300000,2,null,"新潟デザイン専門学校"]
[null,null,null,null,null,null,null,"円",null,null,200000,150000,"写真デザイン科\r",2,70000,685000,320000,425000,0,1110000,240000,0,0,0,0,0,0,0,300000,2,null,"新潟デザイン専門学校"]
["Q","ボーナス等のお支払いについて",null,null,null,null,null,null,null,null,300000,153000,"雑貨・ジュエリーデザイン科\r",2,70000,690000,320000,430000,0,1120000,240000,0,0,0,0,0,0,0,300000,2,null,"新潟デザイン専門学校"]
[null,null,"1年次","夏","7月",null,null,"円",null,null,400000,160000,"デザインマスターズ科",1,70000,695000,320000,415000,0,0,0,0,0,0,0,0,0,0,0,0,null,"新潟デザイン専門学校"]
[null,null,null,"冬","12月",null,null,"円",null,null,500000,163000,"クリエイティブデザイン科",4,70000,695000,320000,415000,0,1110000,240000,0,765000,100000,0,555000,100000,0,300000,2,null,"新潟デザイン専門学校"]
[null,null,"2年次","夏","7月",null,null,"円",null,null,null,170000,"ビジネス公務員科",2,70000,570000,236000,310000,0,880000,236000,0,0,0,0,0,0,0,250000,1,null,"長岡公務員・情報ビジネス専門学校"]
[null,null,null,"冬","12月",null,null,"円",null,null,null,173000,"公務員科",1,70000,570000,236000,310000,0,0,0,0,0,0,0,0,0,0,250000,1,null,"長岡公務員・情報ビジネス専門学校"]
[null,null,"3年次","夏","7月",null,null,"円",null,null,null,180000,"総合ビジネス科",2,70000,570000,236000,310000,0,880000,236000,0,0,0,0,0,0,0,250000,1,null,"長岡公務員・情報ビジネス専門学校"]
[null,null,null,"冬","12月",null,null,"円",null,null,null,null,"データマーケティング科",2,70000,570000,236000,310000,0,880000,236000,0,0,0,0,0,0,0,250000,1,null,"長岡公務員・情報ビジネス専門学校"]
[null,null,"4年次","夏","7月",null,null,"円",null,null,null,null,"ビジネスライセンス科\r",1,70000,570000,236000,310000,0,0,0,0,0,0,0,0,0,0,250000,1,null,"長岡公務員・情報ビジネス専門学校"]
[null,null,null,"冬","12月",null,null,"円",null,null,null,null,"コンピューターグラフィックデザイン科",2,70000,570000,236000,310000,0,880000,236000,0,0,0,0,0,0,0,250000,1,null,"長岡公務員・情報ビジネス専門学校"]
[null,null,null,null,null,null,null,null,null,null,null,null,"情報システム科",2,70000,570000,236000,310000,0,880000,236000,0,0,0,0,0,0,0,250000,1,null,"長岡公務員・情報ビジネス専門学校"]
["Q","家計などから毎月お支払いただける費用",null,null,null,null,null,"円",null,null,null,null,"IT大学併修科",4,70000,570000,236000,310000,240000,880000,236000,200000,880000,236000,200000,880000,236000,216000,250000,1,null,"長岡公務員・情報ビジネス専門学校"]
[null,null,null,null,null,null,null,null,null,null,null,null,"こども保育総合科",3,70000,500000,258000,240000,215000,740000,258000,110000,740000,258000,110000,0,0,0,250000,1,null,"長岡こども・医療・介護専門学校"]
[null,null,null,null,null,null,null,null,null,null,null,null,"こども保育幼稚園科",2,70000,525000,258000,265000,265000,790000,258000,150000,0,0,0,0,0,0,250000,1,null,"長岡こども・医療・介護専門学校"]
[null,null,null,null,null,null,null,null,null,null,null,null,"医療秘書・ビジネス科",2,70000,550000,258000,290000,0,840000,258000,0,0,0,0,0,0,0,250000,1,null,"長岡こども・医療・介護専門学校"]
[null,null,null,null,null,null,null,null,null,null,null,null,"医療事務ライセンス科\r",1,70000,550000,258000,290000,0,0,0,0,0,0,0,0,0,0,250000,1,null,"長岡こども・医療・介護専門学校"]
[null,null,null,null,null,null,null,null,null,null,null,null,"介護福祉科\r",2,70000,550000,258000,290000,0,840000,258000,0,0,0,0,0,0,0,250000,1,null,"長岡こども・医療・介護専門学校"]
[null,null,null,null,null,null,null,null,null,null,null,null,"ウインタースポーツ学科/スノーボード専攻",2,70000,745000,510000,485000,0,1230000,530000,0,0,0,0,0,0,0,0,0,null,"全日本ウィンタースポーツ専門学校"]
[null,null,null,null,null,null,null,null,null,null,null,null,"ウインタースポーツ学科/スキー専攻",2,70000,745000,520000,485000,0,1230000,510000,0,0,0,0,0,0,0,0,0,null,"全日本ウィンタースポーツ専門学校"]
[null,null,null,null,null,null,null,null,null,null,null,null,"スケートボード学科",2,70000,735000,220000,475000,0,1210000,170000,0,0,0,0,0,0,0,0,0,null,"全日本ウィンタースポーツ専門学校"]
[null,null,null,null,null,null,null,null,null,null,null,null,"スポーツビジネス学科",2,70000,745000,500000,485000,0,1230000,500000,0,0,0,0,0,0,0,0,0,null,"全日本ウィンタースポーツ専門学校"]
[null,null,null,null,null,null,null,null,null,null,null,null,"ウインタースポーツ専攻科",1,70000,745000,500000,485000,0,0,0,0,0,0,0,0,0,0,0,0,null,"全日本ウィンタースポーツ専門学校"]
[null,null,null,null,null,null,null,null,null,null,null,null,"アニメーター科\r",2,90000,685000,298000,445000,0,1130000,180000,0,0,0,0,0,0,0,339190,2,null,"日本アニメ・マンガ専門学校"]
[null,null,null,null,null,null,null,null,null,null,null,null,"3DGアニメ・ゲーム科",3,90000,685000,267000,445000,0,1130000,132000,0,890000,145000,0,0,0,0,339190,2,null,"日本アニメ・マンガ専門学校"]
[null,null,null,null,null,null,null,null,null,null,null,null,"キャラクターデザイン科\r",2,90000,685000,224000,445000,0,1130000,182000,0,0,0,0,0,0,0,339190,2,null,"日本アニメ・マンガ専門学校"]
[null,null,null,null,null,null,null,null,null,null,null,null,"ゲームグラフィック科",3,90000,685000,267000,445000,0,1130000,132000,0,890000,145000,0,0,0,0,339190,2,null,"日本アニメ・マンガ専門学校"]
[null,null,null,null,null,null,null,null,null,null,null,null,"コミックイラスト科",2,90000,685000,322000,445000,0,1130000,187000,0,0,0,0,0,0,0,339190,2,null,"日本アニメ・マンガ専門学校"]
[null,null,null,null,null,null,null,null,null,null,null,null,"マンガクリエイト科",2,90000,685000,246000,445000,0,1130000,186000,0,0,0,0,0,0,0,339190,2,null,"日本アニメ・マンガ専門学校"]
[null,null,null,null,null,null,null,null,null,null,null,null,"マンガ・イラスト・キャラクター科",3,90000,685000,181000,445000,0,1130000,198000,0,890000,182000,0,0,0,0,339190,2,null,"日本アニメ・マンガ専門学校"]
[null,null,null,null,null,null,null,null,null,null,null,null,"トータルクリエイター科",4,90000,685000,322000,445000,0,1130000,198000,0,890000,182000,0,890000,182000,0,339190,2,null,"日本アニメ・マンガ専門学校"]
[null,null,null,null,null,null,null,null,null,null,null,null,"大学併修科 ",4,90000,685000,322000,445000,0,1130000,198000,0,890000,182000,0,890000,182000,0,339190,2,"※大学併修費用は分割計画に含まれていません。別途大学へご納入ください。","日本アニメ・マンガ専門学校"]
[null,null,null,null,null,null,null,null,null,null,null,null,"デジタルイラスト科",1,90000,445000,227000,325000,0,0,0,0,0,0,0,0,0,0,0,0,null,"日本アニメ・マンガ専門学校"]
[null,null,null,null,null,null,null,null,null,null,null,null,"美容学科",2,30000,520000,450000,420000,0,940000,430000,0,0,0,0,0,0,0,320000,1,null,"国際ビューティモード専門学校"]
[null,null,null,null,null,null,null,null,null,null,null,null,"ヘアメイク学科",2,30000,520000,450000,420000,0,940000,400000,0,0,0,0,0,0,0,320000,1,null,"国際ビューティモード専門学校"]
[null,null,null,null,null,null,null,null,null,null,null,null,"ビューティプロデュース学科",2,30000,520000,400000,420000,0,940000,320000,0,0,0,0,0,0,0,320000,1,null,"国際ビューティモード専門学校"]
[null,null,null,null,null,null,null,null,null,null,null,null,"エステティックビューティ学科",2,30000,520000,350000,420000,0,940000,300000,0,0,0,0,0,0,0,270000,1,null,"国際ビューティモード専門学校"]
[null,null,null,null,null,null,null,null,null,null,null,null,"トータルビューティ学科",4,30000,520000,450000,420000,0,940000,430000,0,740000,430000,0,740000,430000,0,320000,1,"※大学併修費用は分割計画に含まれていません。別途大学へご納入ください。","国際ビューティモード専門学校"]
[null,null,null,null,null,null,null,null,null,null,null,null,"野外教育・アウトドアスポーツ学科",3,70000,700000,250000,470000,0,1170000,260000,0,1170000,290000,0,0,0,0,250000,1,null,"国際自然環境アウトドア専門学校"]
[null,null,null,null,null,null,null,null,null,null,null,null,"自然ガイド・環境保全学科\r",3,70000,700000,230000,470000,0,1170000,250000,0,1170000,260000,0,0,0,0,250000,1,null,"国際自然環境アウトドア専門学校"]
[null,null,null,null,null,null,null,null,null,null,null,null,"山岳プロ学科",3,70000,700000,240000,470000,0,1170000,270000,0,1170000,390000,0,0,0,0,250000,1,null,"国際自然環境アウトドア専門学校"]
[null,null,null,null,null,null,null,null,null,null,null,null,"アウトドアプロインストラクター学科",2,70000,700000,300000,470000,0,1170000,280000,0,0,0,0,0,0,0,250000,1,null,"国際自然環境アウトドア専門学校"]
[null,null,null,null,null,null,null,null,null,null,null,null,"キャンプビジネス学科",2,70000,700000,250000,470000,0,1170000,250000,0,0,0,0,0,0,0,250000,1,null,"国際自然環境アウトドア専門学校"]
[null,null,null,null,null,null,null,null,null,null,null,null,"自然環境保全学科",2,70000,700000,230000,470000,0,1170000,250000,0,0,0,0,0,0,0,250000,1,null,"国際自然環境アウトドア専門学校"]
[null,null,null,null,null,null,null,null,null,null,null,null,"伝統建築学科　3年制",3,100000,610000,530000,400000,0,1010000,270000,0,1010000,240000,0,0,0,0,0,0,null,"伝統文化と環境福祉の専門学校"]
[null,null,null,null,null,null,null,null,null,null,null,null,"伝統建築学科　4年制/伝統建築コース　",4,100000,610000,530000,400000,0,1010000,270000,0,1010000,270000,0,1010000,240000,0,0,0,null,"伝統文化と環境福祉の専門学校"]
[null,null,null,null,null,null,null,null,null,null,null,null,"伝統建築学科　4年制/京都芸術大学併修コース",4,100000,610000,530000,400000,0,1010000,270000,0,1010000,270000,0,1010000,240000,0,0,0,"※大学併修費用は分割計画に含まれていません。別途大学へご納入ください。","伝統文化と環境福祉の専門学校"]
[null,null,null,null,null,null,null,null,null,null,null,null,"建築専科",1,100000,610000,270000,400000,0,0,0,0,0,0,0,0,0,0,0,0,null,"伝統文化と環境福祉の専門学校"]
[null,null,null,null,null,null,null,null,null,null,null,null,"建築士技能士養成学科",3,100000,610000,530000,400000,0,1010000,270000,0,1010000,240000,0,0,0,0,0,0,null,"伝統文化と環境福祉の専門学校"]
[null,null,null,null,null,null,null,null,null,null,null,null,"まちづくり・観光ビジネス学科",2,100000,610000,330000,400000,0,1010000,270000,0,0,0,0,0,0,0,0,0,null,"伝統文化と環境福祉の専門学校"]
[null,null,null,null,null,null,null,null,null,null,null,null,"観光ビジネス・大学併修学科",4,100000,610000,330000,400000,0,1010000,270000,0,780000,270000,0,780000,240000,0,0,0,"※大学併修費用は分割計画に含まれていません。別途大学へご納入ください。","伝統文化と環境福祉の専門学校"]
[null,null,null,null,null,null,null,null,null,null,null,null,"公務員学科",2,100000,610000,330000,400000,0,1010000,270000,0,0,0,0,0,0,0,0,0,null,"伝統文化と環境福祉の専門学校"]
[null,null,null,null,null,null,null,null,null,null,null,null,"こども保育幼稚園科 ",3,150000,435000,302000,255000,114320,690000,259000,151000,690000,264000,151000,0,0,0,0,0,null,"上越公務員・情報ビジネス専門学校"]
[null,null,null,null,null,null,null,null,null,null,null,null,"医療秘書・事務科\r",2,150000,485000,210000,305000,0,790000,219000,0,0,0,0,0,0,0,165000,1,null,"上越公務員・情報ビジネス専門学校"]
[null,null,null,null,null,null,null,null,null,null,null,null,"事務・ビジネス総合科",2,150000,485000,237000,305000,0,790000,258000,0,0,0,0,0,0,0,165000,1,null,"上越公務員・情報ビジネス専門学校"]
[null,null,null,null,null,null,null,null,null,null,null,null,"ビジネスライセンス科 ",1,150000,485000,241000,305000,0,0,0,0,0,0,0,0,0,0,0,0,null,"上越公務員・情報ビジネス専門学校"]
[null,null,null,null,null,null,null,null,null,null,null,null,"公務員・法律行政科\r",2,150000,485000,287000,305000,0,790000,246000,0,0,0,0,0,0,0,165000,1,null,"上越公務員・情報ビジネス専門学校"]
[null,null,null,null,null,null,null,null,null,null,null,null,"公務員専攻科\r",1,150000,485000,285000,305000,0,0,0,0,0,0,0,0,0,0,0,0,null,"上越公務員・情報ビジネス専門学校"]
[null,null,null,null,null,null,null,null,null,null,null,null,"情報システム科\r",2,150000,485000,185000,305000,0,790000,184000,0,0,0,0,0,0,0,165000,1,null,"上越公務員・情報ビジネス専門学校"]
[null,null,null,null,null,null,null,null,null,null,null,null,"ゲーム・CGクリエイター科\r",3,150000,485000,185000,305000,0,790000,147000,0,790000,148000,0,0,0,0,0,0,null,"上越公務員・情報ビジネス専門学校"]
[null,null,null,null,null,null,null,null,null,null,null,null,"情報・ITビジネス大学併修科",4,150000,485000,205000,305000,0,790000,200000,0,790000,175000,0,790000,160000,0,0,0,"※大学併修費用は分割計画に含まれていません。別途大学へご納入ください。","上越公務員・情報ビジネス専門学校"]
[null,null,null,null,null,null,null,null,null,null,null,null,"ファッションデザイン科　3年制",3,50000,635000,333548,445000,0,1080000,226832,0,1080000,209264,0,0,0,0,390000,1,null,"国際トータルファッション専門学校"]
[null,null,null,null,null,null,null,null,null,null,null,null,"ファッションデザイン科　4年制",4,50000,635000,333548,445000,0,1080000,226832,0,1080000,209264,0,1080000,181000,0,390000,1,null,"国際トータルファッション専門学校"]
[null,null,null,null,null,null,null,null,null,null,null,null,"コスチュームデザイン科",2,50000,635000,328348,445000,0,1080000,228452,0,0,0,0,0,0,0,390000,1,null,"国際トータルファッション専門学校"]
[null,null,null,null,null,null,null,null,null,null,null,null,"ブランドプロデュース科",2,50000,635000,285730,445000,0,1080000,191194,0,0,0,0,0,0,0,390000,1,null,"国際トータルファッション専門学校"]
[null,null,null,null,null,null,null,null,null,null,null,null,"ファッションビジネス科",2,50000,635000,241742,445000,0,1080000,180370,0,0,0,0,0,0,0,390000,1,null,"国際トータルファッション専門学校"]
[null,null,null,null,null,null,null,null,null,null,null,null,"ファッションスタイリスト科",2,50000,635000,291010,445000,0,1080000,200676,0,0,0,0,0,0,0,390000,1,null,"国際トータルファッション専門学校"]
[null,null,null,null,null,null,null,null,null,null,null,null,"大学併修ファッション科",4,50000,635000,235000,445000,210000,1080000,185000,210000,1080000,209000,210000,1080000,181000,210000,390000,1,null,"国際トータルファッション専門学校"]
[null,null,null,null,null,null,null,null,null,null,null,null,"ファッション専攻科",1,50000,635000,207094,445000,0,0,0,0,0,0,0,0,0,0,0,0,null,"国際トータルファッション専門学校"]
[null,null,null,null,null,null,null,null,null,null,null,null,"こども保育学科/保育士コース",2,50000,495000,260000,395000,0,890000,284000,0,0,0,0,0,0,0,0,0,null,"国際こども・福祉カレッジ"]
[null,null,null,null,null,null,null,null,null,null,null,null,"こども保育学科/幼稚園教諭・保育士コース",2,50000,535000,385000,435000,0,970000,400000,0,0,0,0,0,0,0,0,0,null,"国際こども・福祉カレッジ"]
[null,null,null,null,null,null,null,null,null,null,null,null,"こども福祉教育学科\r",3,50000,505000,309000,405000,0,910000,347000,0,910000,362000,0,0,0,0,0,0,null,"国際こども・福祉カレッジ"]
[null,null,null,null,null,null,null,null,null,null,null,null,"児童教育学科",4,50000,505000,310000,405000,0,910000,379000,0,910000,358000,0,910000,340000,0,0,0,null,"国際こども・福祉カレッジ"]
[null,null,null,null,null,null,null,null,null,null,null,null,"福祉心理学科\r",4,50000,430000,257000,330000,0,760000,235000,0,760000,266000,0,760000,223000,0,0,0,null,"国際こども・福祉カレッジ"]
[null,null,null,null,null,null,null,null,null,null,null,null,"福祉健康サポート学科\r",2,50000,530000,326000,400000,0,930000,238000,0,0,0,0,0,0,0,0,0,null,"国際こども・福祉カレッジ"]
[null,null,null,null,null,null,null,null,null,null,null,null,"医療福祉マネジメント学科",2,50000,500000,172000,400000,0,900000,279000,0,0,0,0,0,0,0,0,0,null,"国際こども・福祉カレッジ"]
[null,null,null,null,null,null,null,null,null,null,null,null,"社会福祉学科",1,50000,515000,217000,415000,0,0,0,0,0,0,0,0,0,0,0,0,null,"国際こども・福祉カレッジ"]
[null,null,null,null,null,null,null,null,null,null,null,null,"建築士学科\r",2,100000,695000,210000,415000,0,1110000,180000,0,0,0,0,0,0,0,250000,1,null,"新潟工科専門学校"]
[null,null,null,null,null,null,null,null,null,null,null,null,"建築設計デザイン科\n",2,100000,695000,210000,415000,0,1110000,190000,0,0,0,0,0,0,0,250000,1,null,"新潟工科専門学校"]
[null,null,null,null,null,null,null,null,null,null,null,null,"インテリアデザイン科\r",2,100000,695000,260000,415000,0,1110000,230000,0,0,0,0,0,0,0,250000,1,null,"新潟工科専門学校"]
[null,null,null,null,null,null,null,null,null,null,null,null,"建築大工科\r",2,100000,695000,250000,415000,0,1110000,240000,0,0,0,0,0,0,0,250000,1,null,"新潟工科専門学校"]
[null,null,null,null,null,null,null,null,null,null,null,null,"大工測量科\n",1,100000,695000,250000,415000,0,0,0,0,0,0,0,0,0,0,250000,1,null,"新潟工科専門学校"]
[null,null,null,null,null,null,null,null,null,null,null,null,"測量建設科",2,100000,720000,180000,440000,0,1160000,140000,0,0,0,0,0,0,0,250000,2,null,"新潟工科専門学校"]
[null,null,null,null,null,null,null,null,null,null,null,null,"電気・通信エンジニア科",2,100000,715000,200000,435000,0,1150000,160000,0,0,0,0,0,0,0,250000,2,null,"新潟工科専門学校"]
[null,null,null,null,null,null,null,null,null,null,null,null,"建築士専攻科",1,50000,570000,110000,360000,0,0,0,0,0,0,0,0,0,0,0,0,null,"新潟工科専門学校"]
[null,null,null,null,null,null,null,null,null,null,null,null,"建築士専攻・大学併修科",2,50000,570000,110000,360000,322000,930000,110000,322000,0,0,0,0,0,0,0,0,null,"新潟工科専門学校"]
[null,null,null,null,null,null,null,null,null,null,null,null,"一級建築士専攻科",2,50000,830000,100000,620000,0,460000,110000,0,0,0,0,0,0,0,0,0,null,"新潟工科専門学校"]
[null,null,null,null,null,null,null,null,null,null,null,null,"一級建築士専攻・大学併修科",3,50000,830000,110000,620000,0,930000,100000,322000,930000,100000,322000,0,0,0,0,0,null,"新潟工科専門学校"]
[null,null,null,null,null,null,null,null,null,null,null,null,"臨床工学技士科\r",3,70000,715000,300805,435000,0,1150000,276791,0,1150000,273879,0,0,0,0,122690,2,null,"国際メディカル専門学校"]
[null,null,null,null,null,null,null,null,null,null,null,null,"看護学科\r",3,70000,680000,345287,400000,0,1080000,342905,0,1080000,378067,0,0,0,0,122690,2,null,"国際メディカル専門学校"]
[null,null,null,null,null,null,null,null,null,null,null,null,"鍼灸学科昼間部\r",3,70000,625000,209268,425000,0,1050000,176659,0,1050000,160691,0,0,0,0,122690,2,null,"国際メディカル専門学校"]
[null,null,null,null,null,null,null,null,null,null,null,null,"鍼灸学科夜間部\r",3,70000,575000,172368,375000,0,950000,91748,0,950000,147451,0,0,0,0,0,0,null,"国際メディカル専門学校"]
[null,null,null,null,null,null,null,null,null,null,null,null,"鍼灸学科夜間部Wスクール\r",3,0,287500,159445,187500,0,475000,81418,0,475000,123121,0,0,0,0,0,0,null,"国際メディカル専門学校"]
[null,null,null,null,null,null,null,null,null,null,null,null,"診療情報管理士学科\r",3,70000,540000,314195,350000,0,890000,265091,0,890000,272447,0,0,0,0,122690,2,null,"国際メディカル専門学校"]
[null,null,null,null,null,null,null,null,null,null,null,null,"医療秘書・医薬品アドバイザー学科\r",2,70000,540000,330809,350000,0,890000,263627,0,0,0,0,0,0,0,122690,2,null,"国際メディカル専門学校"]
[null,null,null,null,null,null,null,null,null,null,null,null,"医療事務学科 ",1,70000,540000,330809,350000,0,0,0,0,0,0,0,0,0,0,0,0,null,"国際メディカル専門学校"]
[null,null,null,null,null,null,null,null,null,null,null,null,"アドバンストレーナー科",4,70000,530000,350000,410000,240000,940000,300000,200000,940000,300000,200000,940000,300000,216000,350000,1,null,"アップルスポーツカレッジ"]
[null,null,null,null,null,null,null,null,null,null,null,null,"アスレティックトレーナー科/プロトレーナーコース",3,70000,530000,350000,410000,0,940000,300000,0,940000,300000,0,0,0,0,350000,2,null,"アップルスポーツカレッジ"]
[null,null,null,null,null,null,null,null,null,null,null,null,"アスレティックトレーナー科/スポーツ鍼灸トレーナーコース",3,70000,530000,350000,410000,0,940000,300000,0,940000,300000,0,0,0,0,350000,2,null,"アップルスポーツカレッジ"]
[null,null,null,null,null,null,null,null,null,null,null,null,"スポーツトレーナー科",2,70000,630000,350000,510000,0,1140000,300000,0,0,0,0,0,0,0,350000,1,null,"アップルスポーツカレッジ"]
[null,null,null,null,null,null,null,null,null,null,null,null,"スポーツビジネス科\n",2,70000,580000,350000,460000,0,1040000,300000,0,0,0,0,0,0,0,350000,1,null,"アップルスポーツカレッジ"]
[null,null,null,null,null,null,null,null,null,null,null,null,"消防・警察公務員学科",2,70000,580000,350000,460000,0,1040000,300000,0,0,0,0,0,0,0,350000,1,null,"アップルスポーツカレッジ"]
[null,null,null,null,null,null,null,null,null,null,null,null,"スポーツ用品メンテナンス科",2,70000,580000,350000,460000,0,1040000,300000,0,0,0,0,0,0,0,350000,1,null,"アップルスポーツカレッジ"]
[null,null,null,null,null,null,null,null,null,null,null,null,"スポーツ保育士学科",2,70000,530000,350000,410000,421000,940000,300000,341700,0,0,0,0,0,0,350000,1,null,"アップルスポーツカレッジ"]
[null,null,null,null,null,null,null,null,null,null,null,null,"バスケットボール専攻科\r",3,70000,530000,350000,410000,0,940000,300000,0,940000,300000,0,0,0,0,350000,2,null,"アップルスポーツカレッジ"]
[null,null,null,null,null,null,null,null,null,null,null,null,"バスケットボール総合学科",2,70000,630000,350000,510000,0,1140000,300000,0,0,0,0,0,0,0,350000,1,null,"アップルスポーツカレッジ"]
[null,null,null,null,null,null,null,null,null,null,null,null,"スポーツ研究科",1,70000,370000,200000,250000,0,0,0,0,0,0,0,0,0,0,0,0,null,"アップルスポーツカレッジ"]
[null,null,null,null,null,null,null,null,null,null,null,null,"音楽アーティスト科\n",2,90000,795000,380000,415000,0,1210000,380000,0,0,0,0,0,0,0,105000,1,null,"国際音楽・ダンス・エンタテイメント専門学校"]
[null,null,null,null,null,null,null,null,null,null,null,null,"ダンス科\n",2,90000,795000,380000,415000,0,1210000,380000,0,0,0,0,0,0,0,105000,1,null,"国際音楽・ダンス・エンタテイメント専門学校"]
[null,null,null,null,null,null,null,null,null,null,null,null,"ダンスイノベーション科",4,90000,795000,380000,415000,0,1210000,380000,0,720000,380000,260000,720000,380000,200000,105000,1,null,"国際音楽・ダンス・エンタテイメント専門学校"]
[null,null,null,null,null,null,null,null,null,null,null,null,"K-POPエンタテイメント科/K-POPダンス＆ヴォーカルコース",2,90000,795000,380000,415000,0,1210000,380000,0,0,0,0,0,0,0,105000,1,null,"国際音楽・ダンス・エンタテイメント専門学校"]
[null,null,null,null,null,null,null,null,null,null,null,null,"K-POPエンタテイメント科/オンラインK-POPビジネスコース",2,90000,650000,250000,420000,0,1070000,250000,0,0,0,0,0,0,0,105000,1,null,"国際音楽・ダンス・エンタテイメント専門学校"]
[null,null,null,null,null,null,null,null,null,null,null,null,"K-POPエンタテイメント科/K-POPビジネスコース",2,90000,710000,380000,360000,0,1070000,380000,0,0,0,0,0,0,0,105000,1,null,"国際音楽・ダンス・エンタテイメント専門学校"]
[null,null,null,null,null,null,null,null,null,null,null,null,"音楽ビジネス科\r",2,90000,710000,380000,360000,0,1070000,380000,0,0,0,0,0,0,0,105000,1,null,"国際音楽・ダンス・エンタテイメント専門学校"]
[null,null,null,null,null,null,null,null,null,null,null,null,"映像デザイン科",2,90000,710000,380000,360000,0,1070000,380000,0,0,0,0,0,0,0,105000,1,null,"国際音楽・ダンス・エンタテイメント専門学校"]
[null,null,null,null,null,null,null,null,null,null,null,null,"音響・照明科\r",2,90000,710000,380000,360000,0,1070000,380000,0,0,0,0,0,0,0,105000,1,null,"国際音楽・ダンス・エンタテイメント専門学校"]
[null,null,null,null,null,null,null,null,null,null,null,null,"サウンドクリエイター科",2,90000,710000,380000,360000,0,1070000,380000,0,0,0,0,0,0,0,105000,1,null,"国際音楽・ダンス・エンタテイメント専門学校"]
[null,null,null,null,null,null,null,null,null,null,null,null,"研究科",1,90000,795000,380000,415000,0,0,0,0,0,0,0,0,0,0,105000,1,null,"国際音楽・ダンス・エンタテイメント専門学校"]
[null,null,null,null,null,null,null,null,null,null,null,null,"大学併修 総合動物看護学科",4,80000,640000,278000,590000,240000,1230000,155000,200000,1230000,170000,200000,1230000,145000,216000,380000,4,null,"国際ペットワールド専門学校"]
[null,null,null,null,null,null,null,null,null,null,null,null,"動物看護師・リハビリ介護学科",3,80000,640000,269000,590000,0,1230000,227000,0,1230000,235000,0,0,0,0,380000,3,null,"国際ペットワールド専門学校"]
[null,null,null,null,null,null,null,null,null,null,null,null,"動物看護師・美容学科",3,80000,640000,269000,590000,0,1230000,209000,0,1230000,167000,0,0,0,0,380000,3,null,"国際ペットワールド専門学校"]
[null,null,null,null,null,null,null,null,null,null,null,null,"動物飼育管理学科",3,80000,650000,242000,600000,0,1250000,211000,0,1250000,159000,0,0,0,0,380000,3,null,"国際ペットワールド専門学校"]
[null,null,null,null,null,null,null,null,null,null,null,null,"ペット栄養・メディカルトリマー学科",2,80000,650000,258000,600000,0,1250000,188000,0,0,0,0,0,0,0,380000,2,null,"国際ペットワールド専門学校"]
[null,null,null,null,null,null,null,null,null,null,null,null,"ペット美容学科",2,80000,640000,329000,590000,0,1230000,140000,0,0,0,0,0,0,0,380000,2,null,"国際ペットワールド専門学校"]
[null,null,null,null,null,null,null,null,null,null,null,null,"ドッグトレーニング学科",2,80000,660000,190000,610000,0,1270000,134000,0,0,0,0,0,0,0,380000,2,null,"国際ペットワールド専門学校"]
[null,null,null,null,null,null,null,null,null,null,null,null,"ペットショップ・ビジネス学科",2,80000,625000,241000,575000,0,1200000,184000,0,0,0,0,0,0,0,380000,2,null,"国際ペットワールド専門学校"]
[null,null,null,null,null,null,null,null,null,null,null,null,"大学併修　海洋生物・自然環境学科",4,80000,700000,350000,650000,240000,1350000,150000,200000,1350000,150000,200000,1350000,150000,216000,380000,4,null,"国際ペットワールド専門学校"]
[null,null,null,null,null,null,null,null,null,null,null,null,"ネイチャーアクアリウム学科",2,80000,700000,283000,650000,0,1350000,112000,0,0,0,0,0,0,0,380000,2,null,"国際ペットワールド専門学校"]
[null,null,null,null,null,null,null,null,null,null,null,null,"水族館・ドルフィン学科",2,80000,700000,293000,650000,0,1350000,118000,0,0,0,0,0,0,0,380000,2,null,"国際ペットワールド専門学校"]
[null,null,null,null,null,null,null,null,null,null,null,null,"動物飼育・ケア学科",1,80000,425000,180000,375000,0,0,0,0,0,0,0,0,0,0,0,0,null,"国際ペットワールド専門学校"]
[null,null,null,null,null,null,null,null,null,null,null,null,"サッカー専攻科\r",3,100000,700000,589000,520000,0,1220000,489000,0,1220000,489000,0,0,0,0,0,0,null,"ＪＡＰＡＮサッカーカレッジ"]
[null,null,null,null,null,null,null,null,null,null,null,null,"女子サッカー専攻科\r",2,100000,485000,589000,405000,0,890000,489000,0,0,0,0,0,0,0,0,0,null,"ＪＡＰＡＮサッカーカレッジ"]
[null,null,null,null,null,null,null,null,null,null,null,null,"マネージャー・トレーナー科\r",2,100000,700000,539000,520000,0,1220000,589000,0,0,0,0,0,0,0,0,2,null,"ＪＡＰＡＮサッカーカレッジ"]
[null,null,null,null,null,null,null,null,null,null,null,null,"サッカートレーナー専攻科\r",3,100000,485000,489000,405000,0,890000,489000,0,890000,489000,0,0,0,0,0,0,null,"ＪＡＰＡＮサッカーカレッジ"]
[null,null,null,null,null,null,null,null,null,null,null,null,"コーチ・審判専攻科\r",2,100000,700000,539000,520000,0,1220000,589000,0,0,0,0,0,0,0,0,2,null,"ＪＡＰＡＮサッカーカレッジ"]
[null,null,null,null,null,null,null,null,null,null,null,null,"サッカーコーチ研究科",4,100000,700000,559000,520000,0,1220000,589000,0,610000,449000,0,610000,449000,0,0,2,null,"ＪＡＰＡＮサッカーカレッジ"]
[null,null,null,null,null,null,null,null,null,null,null,null,"サッカービジネス科",2,100000,700000,539000,520000,0,1220000,589000,0,0,0,0,0,0,0,0,2,null,"ＪＡＰＡＮサッカーカレッジ"]
[null,null,null,null,null,null,null,null,null,null,null,null,null,null,null,null,null,null,null,null,null,null,null,null,null,null,null,null,null,null,null,"ＪＡＰＡＮサッカーカレッジ"]
[null,null,null,null,null,null,null,null,null,null,null,null,"国際ホテル大学併修・留学科",4,70000,615000,290000,445000,0,1060000,300000,0,1060000,300000,260000,1060000,300000,200000,0,0,null,"国際ホテル・ブライダル専門学校"]
[null,null,null,null,null,null,null,null,null,null,null,null,"ホテル・ウエディング科",2,70000,615000,290000,445000,0,1060000,300000,0,0,0,0,0,0,0,360000,1,"※短大併修費用は分割計画に含まれていません。別途短大へご納入ください。","国際ホテル・ブライダル専門学校"]
[null,null,null,null,null,null,null,null,null,null,null,null,"葬祭ディレクター科\r",2,70000,615000,290000,445000,0,1060000,280000,0,0,0,0,0,0,0,360000,1,"※短大併修費用は分割計画に含まれていません。別途短大へご納入ください。","国際ホテル・ブライダル専門学校"]
[null,null,null,null,null,null,null,null,null,null,null,null,"専攻科",1,70000,615000,290000,445000,0,0,0,0,0,0,0,0,0,0,0,0,null,"国際ホテル・ブライダル専門学校"]
[null,null,null,null,null,null,null,null,null,null,null,null,"１級自動車整備科",4,100000,760000,270000,475000,0,1235000,220000,0,780000,190000,0,780000,190000,0,280000,2,null,"専門学校新潟国際自動車大学校"]
[null,null,null,null,null,null,null,null,null,null,null,null,"車体整備科",3,100000,760000,260000,475000,0,1235000,210000,0,780000,300000,0,0,0,0,280000,2,null,"専門学校新潟国際自動車大学校"]
[null,null,null,null,null,null,null,null,null,null,null,null,"自動車整備科\r",2,100000,760000,250000,475000,0,1235000,240000,0,0,0,0,0,0,0,280000,2,null,"専門学校新潟国際自動車大学校"]
[null,null,null,null,null,null,null,null,null,null,null,null,"モータースポーツ科\r",2,100000,785000,450000,500000,0,1285000,320000,0,0,0,0,0,0,0,280000,2,null,"専門学校新潟国際自動車大学校"]
[null,null,null,null,null,null,null,null,null,null,null,null,"モータースポーツ２級整備士科",3,100000,785000,450000,500000,0,1285000,320000,0,780000,240000,0,0,0,0,280000,2,null,"専門学校新潟国際自動車大学校"]
[null,null,null,null,null,null,null,null,null,null,null,null,"国際英語コミュニケーション科",2,70000,580000,250000,410000,0,990000,250000,0,0,0,0,0,0,0,330000,1,null,"国際外語・観光・エアライン専門学校"]
[null,null,null,null,null,null,null,null,null,null,null,null,"上級英語科",2,70000,580000,250000,410000,0,990000,250000,0,0,0,0,0,0,0,330000,1,null,"国際外語・観光・エアライン専門学校"]
[null,null,null,null,null,null,null,null,null,null,null,null,"韓国語コミュニケーション科\n",2,70000,580000,250000,410000,0,990000,250000,0,0,0,0,0,0,0,330000,1,null,"国際外語・観光・エアライン専門学校"]
[null,null,null,null,null,null,null,null,null,null,null,null,"中国語コミュニケーション科",2,70000,580000,250000,410000,0,990000,250000,0,0,0,0,0,0,0,330000,1,null,"国際外語・観光・エアライン専門学校"]
[null,null,null,null,null,null,null,null,null,null,null,null,"観光デザイン科",2,70000,580000,330000,410000,0,990000,250000,0,0,0,0,0,0,0,330000,1,null,"国際外語・観光・エアライン専門学校"]
[null,null,null,null,null,null,null,null,null,null,null,null,"国際エアライン科",2,70000,580000,250000,410000,0,990000,250000,0,0,0,0,0,0,0,330000,1,"※短大併修費用は分割計画に含まれていません。別途短大へご納入ください。","国際外語・観光・エアライン専門学校"]
[null,null,null,null,null,null,null,null,null,null,null,null,"国際観光大学併修科",4,70000,580000,330000,410000,0,990000,260000,0,660000,260000,0,660000,260000,0,330000,1,"※大学併修費用は分割計画に含まれていません。別途大学へご納入ください。","国際外語・観光・エアライン専門学校"]
[null,null,null,null,null,null,null,null,null,null,null,null,"専攻科/英語留学コース・韓国留学コース",1,70000,580000,250000,410000,0,0,0,0,0,0,0,0,0,0,330000,1,null,"国際外語・観光・エアライン専門学校"]
[null,null,null,null,null,null,null,null,null,null,null,null,"専攻科/オンライン韓国語専攻コース",1,70000,330000,150000,330000,0,0,0,0,0,0,0,0,0,0,400000,1,null,"国際外語・観光・エアライン専門学校"]
[null,null,null,null,null,null,null,null,null,null,null,null,"シェフ学科",2,50000,605000,404000,425000,0,1030000,343000,0,0,0,0,0,0,0,330000,2,null,"国際調理製菓専門学校"]
[null,null,null,null,null,null,null,null,null,null,null,null,"健康給食学科\r",2,50000,605000,404000,425000,0,1030000,346800,0,0,0,0,0,0,0,330000,2,null,"国際調理製菓専門学校"]
[null,null,null,null,null,null,null,null,null,null,null,null,"カフェ学科\r",2,50000,605000,404000,425000,0,1030000,358500,0,0,0,0,0,0,0,330000,2,null,"国際調理製菓専門学校"]
[null,null,null,null,null,null,null,null,null,null,null,null,"調理師学科\r",1,50000,605000,430000,425000,0,0,0,0,0,0,0,0,0,0,0,0,null,"国際調理製菓専門学校"]
[null,null,null,null,null,null,null,null,null,null,null,null,"栄養士学科\r",2,50000,615000,390000,435000,0,1050000,326500,0,0,0,0,0,0,0,330000,2,null,"国際調理製菓専門学校"]
[null,null,null,null,null,null,null,null,null,null,null,null,"パティシエ学科\r",2,50000,605000,395000,425000,0,1030000,396000,0,0,0,0,0,0,0,330000,2,null,"国際調理製菓専門学校"]
[null,null,null,null,null,null,null,null,null,null,null,null,"フードプロデュース専攻科",1,50000,480000,225000,300000,0,0,0,0,0,0,0,0,0,0,0,0,null,"国際調理製菓専門学校"]
[null,null,null,null,null,null,null,null,null,null,null,null,"声優科/声優コース・声優タレントコース",2,70000,650000,350000,450000,0,1100000,310000,0,0,0,0,0,0,0,360000,2,null,"国際映像メディア専門学校"]
[null,null,null,null,null,null,null,null,null,null,null,null,"声優科/オンライン声優コース",2,70000,440000,350000,380000,0,820000,310000,0,0,0,0,0,0,0,360000,2,null,"国際映像メディア専門学校"]
[null,null,null,null,null,null,null,null,null,null,null,null,"声優アーティスト・アニソン科",2,70000,650000,350000,450000,0,1100000,300000,0,0,0,0,0,0,0,360000,2,null,"国際映像メディア専門学校"]
[null,null,null,null,null,null,null,null,null,null,null,null,"俳優・ミュージカル科",2,70000,670000,350000,450000,0,1120000,310000,0,0,0,0,0,0,0,360000,2,null,"国際映像メディア専門学校"]
[null,null,null,null,null,null,null,null,null,null,null,null,"動画・映像クリエイター科",2,70000,670000,350000,450000,0,1120000,300000,0,0,0,0,0,0,0,360000,2,null,"国際映像メディア専門学校"]
[null,null,null,null,null,null,null,null,null,null,null,null,"舞台・声優スタッフ科",2,70000,670000,350000,450000,0,1120000,300000,0,0,0,0,0,0,0,360000,2,null,"国際映像メディア専門学校"]
[null,null,null,null,null,null,null,null,null,null,null,null,"研究科 ",1,70000,280000,200000,210000,0,0,0,0,0,0,0,0,0,0,0,0,null,"国際映像メディア専門学校"]
[null,null,null,null,null,null,null,null,null,null,null,null,"スマート農業テクノロジー科",2,40000,740000,200000,460000,0,1200000,130000,0,0,0,0,0,0,0,180000,1,null,"新潟農業・バイオ専門学校"]
[null,null,null,null,null,null,null,null,null,null,null,null,"食料農業経営科/栽培コース",2,40000,740000,210000,460000,0,1200000,130000,0,0,0,0,0,0,0,180000,1,null,"新潟農業・バイオ専門学校"]
[null,null,null,null,null,null,null,null,null,null,null,null,"食料農業経営科/農業機械ライセンスコース",2,40000,740000,210000,460000,0,1200000,210000,0,0,0,0,0,0,0,180000,1,null,"新潟農業・バイオ専門学校"]
[null,null,null,null,null,null,null,null,null,null,null,null,"フードマネジメント科",2,40000,740000,170000,460000,0,1200000,120000,0,0,0,0,0,0,0,180000,1,null,"新潟農業・バイオ専門学校"]
[null,null,null,null,null,null,null,null,null,null,null,null,"バイオテクノロジー科",2,40000,740000,180000,460000,0,1200000,120000,0,0,0,0,0,0,0,180000,1,null,"新潟農業・バイオ専門学校"]
[null,null,null,null,null,null,null,null,null,null,null,null,"フラワーデザイン科/フラワーコーディネートコース",2,40000,740000,300000,460000,0,1200000,300000,0,0,0,0,0,0,0,180000,1,null,"新潟農業・バイオ専門学校"]
[null,null,null,null,null,null,null,null,null,null,null,null,"フラワーデザイン科/植物・ガーデンデザインコース",2,40000,740000,300000,460000,0,1200000,220000,0,0,0,0,0,0,0,180000,1,null,"新潟農業・バイオ専門学校"]
[null,null,null,null,null,null,null,null,null,null,null,null,"大学併修農業総合科",4,40000,740000,230000,460000,46000,1200000,90000,22000,940000,60000,209000,940000,70000,99000,180000,1,null,"新潟農業・バイオ専門学校"]
[null,null,null,null,null,null,null,null,null,null,null,null,"大学併修バイオ総合科",4,40000,740000,200000,460000,46000,1200000,90000,22000,940000,60000,209000,940000,80000,99000,180000,1,null,"新潟農業・バイオ専門学校"]
[null,null,null,null,null,null,null,null,null,null,null,null,"大学併修自然環境総合科",4,40000,740000,220000,460000,46000,1200000,100000,22000,940000,40000,209000,940000,70000,99000,180000,1,null,"新潟農業・バイオ専門学校"]
[null,null,null,null,null,null,null,null,null,null,null,null,"法学部併修学科",4,90000,490000,233000,300000,150000,790000,172000,120000,790000,167000,120000,790000,156000,120000,250000,1,null,"新潟法律大学校"]
[null,null,null,null,null,null,null,null,null,null,null,null,"法律公務員学科",4,90000,540000,200000,350000,0,890000,138000,0,890000,144000,0,890000,147000,0,250000,1,null,"新潟法律大学校"]
[null,null,null,null,null,null,null,null,null,null,null,null,"看護学科",3,70000,575000,428000,405000,0,980000,312000,0,980000,271000,0,0,0,0,150000,2,null,"三条看護・医療・歯科衛生専門学校"]
[null,null,null,null,null,null,null,null,null,null,null,null,"歯科衛生士学科",3,70000,465000,415000,365000,0,830000,380000,0,830000,284000,0,0,0,0,150000,2,null,"三条看護・医療・歯科衛生専門学校"]
[null,null,null,null,null,null,null,null,null,null,null,null,"医療事務学科  ",2,70000,435000,304000,345000,0,780000,292000,0,0,0,0,0,0,0,150000,2,null,"三条看護・医療・歯科衛生専門学校"]

{"sheet":"シミュレーション","index":1,"n_rows":55,"n_cols":10,"rows_kept":55,"cut":false,"hidden":false,"merged":[[6,0,18,0],[19,0,30,0],[31,0,42,0],[43,0,54,0]]}
["学費分納シミュレーション"]
[null,"※下記金額とは別に事務手数料として15,000円(税別/年数)をお納めいただきます。"]
[null,"※奨学金の初回貸与は申し込み手続き上、3ヶ月分(4月～6月)を6月貸与、支払いでシミュレーションしております。"]
[]
[null,null,null,null,null,"納入学費の総合計",null,{"$f":"情報入力!C29","v":0}]
[null,null,null,"月額奨学金支払額","入学時特別増額支払・\nボーナス等自己負担額","学費の支払合計","学費の免除","納入残高",null,"ボーナス等自己負担額"]
["１年次",null,"入学前",null,{"$f":"IFERROR(IF(G7=\"\",IF(情報入力!$G48=\"分納\",情報入力!$C6+情報入力!$G50+情報入力!$G52,情報入力!$C6+情報入力!$C7),IF(情報入力!$G48=\"分納\",IF((情報入力!$C6-G7)>=0,情報入力!$C6+情報入力!$G50+情報入力!$G52-G7,情報入力!$G50+情報入力!$G52),情報入力!$C6+情報入力!$C7-G7)),\"\")","v":50000},{"$f":"SUM(D7:E7)","v":50000},null,{"$f":"H5-F7-G7","v":-50000},{"$f":"IF(H7<=0,\"完納\",\"\")","v":"完納"},{"$f":"IFERROR(IF(L7=\"\",IF(情報入力!$G48=\"分納\",情報入力!$C6+情報入力!$G50+情報入力!$G52,情報入力!$C6+情報入力!$C7),IF(情報入力!$G48=\"分納\",IF((情報入力!$C6-L7)>=0,情報入力!$C6+情報入力!$G50+情報入力!$G52-L7,情報入力!$G50+情報入力!$G52),情報入力!$C6+情報入力!$C7-L7)),\"\")","v":50000}]
[null,"2023年","4月",null,null,0,null,{"$f":"H7-F8-G8","v":-50000},{"$f":"IF(H8<=0,\"完納\",\"\")","v":"完納"},{"$f":"情報入力!$G$63+IF(情報入力!$E$54=$C8,情報入力!$G$54,0)","v":0}]
[null,"2023年","5月",null,null,0,null,{"$f":"H8-F9-G9","v":-50000},"完納",{"$f":"情報入力!$G$63+IF(情報入力!$E$54=$C9,情報入力!$G$54,0)+IF(I9=\"\",0,情報入力!$G45)","v":0}]
[null,"2023年","6月",{"$f":"情報入力!G$39*3","v":0},{"$f":"情報入力!$G$63*3+IF(情報入力!$E$54=$C10,情報入力!$G$54,0)+IF(D9=\"\",IF(D10=\"\",0,情報入力!$G45),0)","v":0},{"$f":"IF(SUM(D10:E10)<=H9,SUM(D10:E10),H9)","v":-50000},null,0,"完納",{"$f":"情報入力!$G$63+IF(情報入力!$E$54=$C10,情報入力!$G$54,0)+IF(I9=\"\",IF(I10=\"\",0,情報入力!$G45),0)","v":0}]
[null,"2023年","7月",{"$f":"情報入力!G$39","v":0},{"$f":"情報入力!$G$63+IF(情報入力!$E$54=$C11,情報入力!$G$54,0)+IF(D9=\"\",IF(D10=\"\",情報入力!$G45,0),0)","v":0},{"$f":"IF(SUM(D11:E11)<=H10,SUM(D11:E11),H10)","v":0},null,0,"完納",{"$f":"情報入力!$G$63+IF(情報入力!$E$54=$C11,情報入力!$G$54,0)+IF(I9=\"\",IF(I10=\"\",情報入力!$G45,0),0)","v":0}]
[null,"2023年","8月",{"$f":"情報入力!G$39","v":0},{"$f":"情報入力!$G$63+IF(情報入力!$E$54=$C12,情報入力!$G$54,0)","v":0},0,null,0,"完納",{"$f":"情報入力!$G$63+IF(情報入力!$E$54=$C12,情報入力!$G$54,0)","v":0}]
[null,"2023年","9月",{"$f":"情報入力!G$39","v":0},{"$f":"情報入力!$G$63+IF(情報入力!$E$54=$C13,情報入力!$G$54,0)","v":0},0,null,0,"完納",{"$f":"情報入力!$G$63+IF(情報入力!$E$54=$C13,情報入力!$G$54,0)","v":0}]
[null,"2023年","10月",{"$f":"情報入力!G$39","v":0},{"$f":"情報入力!$G$63+IF(情報入力!$E$55=$C14,情報入力!$G$55,0)","v":0},0,null,0,"完納",{"$f":"情報入力!$G$63+IF(情報入力!$E$55=$C14,情報入力!$G$55,0)","v":0}]
[null,"2023年","11月",{"$f":"情報入力!G$39","v":0},{"$f":"情報入力!$G$63+IF(情報入力!$E$55=$C15,情報入力!$G$55,0)","v":0},0,null,0,"完納",{"$f":"情報入力!$G$63+IF(情報入力!$E$55=$C15,情報入力!$G$55,0)","v":0}]
[null,"2023年","12月",{"$f":"情報入力!G$39","v":0},{"$f":"情報入力!$G$63+IF(情報入力!$E$55=$C16,情報入力!$G$55,0)","v":0},0,null,0,"完納",{"$f":"情報入力!$G$63+IF(情報入力!$E$55=$C16,情報入力!$G$55,0)","v":0}]
[null,"2024年","1月",{"$f":"情報入力!G$39","v":0},{"$f":"情報入力!$G$63+IF(情報入力!$E$55=$C17,情報入力!$G$55,0)","v":0},0,null,0,"完納",{"$f":"情報入力!$G$63+IF(情報入力!$E$55=$C17,情報入力!$G$55,0)","v":0}]
[null,"2024年","2月",{"$f":"情報入力!G$39","v":0},{"$f":"情報入力!$G$63+IF(情報入力!$E$55=$C18,情報入力!$G$55,0)","v":0},0,null,0,"完納",{"$f":"情報入力!$G$63+IF(情報入力!$E$55=$C18,情報入力!$G$55,0)","v":0}]
[null,"2024年","3月",{"$f":"情報入力!G$39","v":0},{"$f":"情報入力!$G$63+IF(情報入力!$E$55=$C19,情報入力!$G$55,0)","v":0},0,null,0,"完納",{"$f":"情報入力!$G$63+IF(情報入力!$E$55=$C19,情報入力!$G$55,0)","v":0}]
["２年次","2024年","4月",{"$f":"情報入力!G$39","v":0},{"$f":"情報入力!$G$63+IF(情報入力!$E$56=$C20,情報入力!$G$56,0)","v":0},0,null,0,"完納",{"$f":"情報入力!$G$63+IF(情報入力!$E$56=$C20,情報入力!$G$56,0)","v":0}]
[null,"2024年","5月",{"$f":"情報入力!G$39","v":0},{"$f":"情報入力!$G$63+IF(情報入力!$E$56=$C21,情報入力!$G$56,0)","v":0},0,null,0,"完納",{"$f":"情報入力!$G$63+IF(情報入力!$E$56=$C21,情報入力!$G$56,0)","v":0}]
[null,"2024年","6月",{"$f":"情報入力!G$39","v":0},{"$f":"情報入力!$G$63+IF(情報入力!$E$56=$C22,情報入力!$G$56,0)","v":0},0,null,0,"完納",{"$f":"情報入力!$G$63+IF(情報入力!$E$56=$C22,情報入力!$G$56,0)","v":0}]
[null,"2024年","7月",{"$f":"情報入力!G$39","v":0},{"$f":"情報入力!$G$63+IF(情報入力!$E$56=$C23,情報入力!$G$56,0)","v":0},0,null,0,"完納",{"$f":"情報入力!$G$63+IF(情報入力!$E$56=$C23,情報入力!$G$56,0)","v":0}]
[null,"2024年","8月",{"$f":"情報入力!G$39","v":0},{"$f":"情報入力!$G$63+IF(情報入力!$E$56=$C24,情報入力!$G$56,0)","v":0},0,null,0,"完納",{"$f":"情報入力!$G$63+IF(情報入力!$E$56=$C24,情報入力!$G$56,0)","v":0}]
[null,"2024年","9月",{"$f":"情報入力!G$39","v":0},{"$f":"情報入力!$G$63+IF(情報入力!$E$56=$C25,情報入力!$G$56,0)","v":0},0,null,0,"完納",{"$f":"情報入力!$G$63+IF(情報入力!$E$56=$C25,情報入力!$G$56,0)","v":0}]
[null,"2024年","10月",{"$f":"情報入力!G$39","v":0},{"$f":"情報入力!$G$63+IF(情報入力!$E$57=$C26,情報入力!$G$57,0)","v":0},0,null,0,"完納",{"$f":"情報入力!$G$63+IF(情報入力!$E$57=$C26,情報入力!$G$57,0)","v":0}]
[null,"2024年","11月",{"$f":"情報入力!G$39","v":0},{"$f":"情報入力!$G$63+IF(情報入力!$E$57=$C27,情報入力!$G$57,0)","v":0},0,null,0,"完納",{"$f":"情報入力!$G$63+IF(情報入力!$E$57=$C27,情報入力!$G$57,0)","v":0}]
[null,"2024年","12月",{"$f":"情報入力!G$39","v":0},{"$f":"情報入力!$G$63+IF(情報入力!$E$57=$C28,情報入力!$G$57,0)","v":0},0,null,0,"完納",{"$f":"情報入力!$G$63+IF(情報入力!$E$57=$C28,情報入力!$G$57,0)","v":0}]
[null,"2025年","1月",{"$f":"情報入力!G$39","v":0},{"$f":"情報入力!$G$63+IF(情報入力!$E$57=$C29,情報入力!$G$57,0)","v":0},0,null,0,"完納",{"$f":"情報入力!$G$63+IF(情報入力!$E$57=$C29,情報入力!$G$57,0)","v":0}]
[null,"2025年","2月",{"$f":"情報入力!G$39","v":0},{"$f":"情報入力!$G$63+IF(情報入力!$E$57=$C30,情報入力!$G$57,0)","v":0},0,null,0,"完納",{"$f":"情報入力!$G$63+IF(情報入力!$E$57=$C30,情報入力!$G$57,0)","v":0}]
[null,"2025年","3月",{"$f":"情報入力!G$39","v":0},{"$f":"情報入力!$G$63+IF(情報入力!$E$57=$C31,情報入力!$G$57,0)","v":0},0,null,0,"完納",{"$f":"情報入力!$G$63+IF(情報入力!$E$57=$C31,情報入力!$G$57,0)","v":0}]
["３年次","2025年","4月",{"$f":"情報入力!G$39","v":0},{"$f":"情報入力!$G$63+IF(情報入力!$E$58=$C32,情報入力!$G$58,0)","v":0},0,null,0,"完納",{"$f":"情報入力!$G$63+IF(情報入力!$E$58=$C32,情報入力!$G$58,0)","v":0}]
[null,"2025年","5月",{"$f":"情報入力!G$39","v":0},{"$f":"情報入力!$G$63+IF(情報入力!$E$58=$C33,情報入力!$G$58,0)","v":0},0,null,0,"完納",{"$f":"情報入力!$G$63+IF(情報入力!$E$58=$C33,情報入力!$G$58,0)","v":0}]
[null,"2025年","6月",{"$f":"情報入力!G$39","v":0},{"$f":"情報入力!$G$63+IF(情報入力!$E$58=$C34,情報入力!$G$58,0)","v":0},0,null,0,"完納",{"$f":"情報入力!$G$63+IF(情報入力!$E$58=$C34,情報入力!$G$58,0)","v":0}]
[null,"2025年","7月",{"$f":"情報入力!G$39","v":0},{"$f":"情報入力!$G$63+IF(情報入力!$E$58=$C35,情報入力!$G$58,0)","v":0},0,null,0,"完納",{"$f":"情報入力!$G$63+IF(情報入力!$E$58=$C35,情報入力!$G$58,0)","v":0}]
[null,"2025年","8月",{"$f":"情報入力!G$39","v":0},{"$f":"情報入力!$G$63+IF(情報入力!$E$58=$C36,情報入力!$G$58,0)","v":0},0,null,0,"完納",{"$f":"情報入力!$G$63+IF(情報入力!$E$58=$C36,情報入力!$G$58,0)","v":0}]
[null,"2025年","9月",{"$f":"情報入力!G$39","v":0},{"$f":"情報入力!$G$63+IF(情報入力!$E$58=$C37,情報入力!$G$58,0)","v":0},0,null,0,"完納",{"$f":"情報入力!$G$63+IF(情報入力!$E$58=$C37,情報入力!$G$58,0)","v":0}]
[null,"2025年","10月",{"$f":"情報入力!G$39","v":0},{"$f":"情報入力!$G$63+IF(情報入力!$E$59=$C38,情報入力!$G$59,0)","v":0},0,null,0,"完納",{"$f":"情報入力!$G$63+IF(情報入力!$E$59=$C38,情報入力!$G$59,0)","v":0}]
[null,"2025年","11月",{"$f":"情報入力!G$39","v":0},{"$f":"情報入力!$G$63+IF(情報入力!$E$59=$C39,情報入力!$G$59,0)","v":0},0,null,0,"完納",{"$f":"情報入力!$G$63+IF(情報入力!$E$59=$C39,情報入力!$G$59,0)","v":0}]
[null,"2025年","12月",{"$f":"情報入力!G$39","v":0},{"$f":"情報入力!$G$63+IF(情報入力!$E$59=$C40,情報入力!$G$59,0)","v":0},0,null,0,"完納",{"$f":"情報入力!$G$63+IF(情報入力!$E$59=$C40,情報入力!$G$59,0)","v":0}]
[null,"2026年","1月",{"$f":"情報入力!G$39","v":0},{"$f":"情報入力!$G$63+IF(情報入力!$E$59=$C41,情報入力!$G$59,0)","v":0},{"$f":"IF(SUM(D41:E41)<=H40,SUM(D41:E41),H40)","v":0},null,0,{"$f":"IF(H41<=0,\"完納\",\"\")","v":"完納"},{"$f":"情報入力!$G$63+IF(情報入力!$E$59=$C41,情報入力!$G$59,0)","v":0}]
[null,"2026年","2月",{"$f":"情報入力!G$39","v":0},{"$f":"情報入力!$G$63+IF(情報入力!$E$59=$C42,情報入力!$G$59,0)","v":0},0,null,0,"完納",{"$f":"情報入力!$G$63+IF(情報入力!$E$59=$C42,情報入力!$G$59,0)","v":0}]
[null,"2026年","3月",{"$f":"情報入力!G$39","v":0},{"$f":"情報入力!$G$63+IF(情報入力!$E$59=$C43,情報入力!$G$59,0)","v":0},{"$f":"IF(SUM(D43:E43)<=H42,SUM(D43:E43),H42)","v":0},null,{"$f":"H42-F43-G43","v":0},"完納",{"$f":"情報入力!$G$63+IF(情報入力!$E$59=$C43,情報入力!$G$59,0)","v":0}]
["４年次","2026年","4月",{"$f":"情報入力!G$39","v":0},{"$f":"情報入力!$G$63+IF(情報入力!$E$60=$C44,情報入力!$G$60,0)","v":0},0,null,0,"完納",{"$f":"情報入力!$G$63+IF(情報入力!$E$60=$C44,情報入力!$G$60,0)","v":0}]
[null,"2026年","5月",{"$f":"情報入力!G$39","v":0},{"$f":"情報入力!$G$63+IF(情報入力!$E$60=$C45,情報入力!$G$60,0)","v":0},0,null,0,"完納",{"$f":"情報入力!$G$63+IF(情報入力!$E$60=$C45,情報入力!$G$60,0)","v":0}]
[null,"2026年","6月",{"$f":"情報入力!G$39","v":0},{"$f":"情報入力!$G$63+IF(情報入力!$E$60=$C46,情報入力!$G$60,0)","v":0},0,null,0,"完納",{"$f":"情報入力!$G$63+IF(情報入力!$E$60=$C46,情報入力!$G$60,0)","v":0}]
[null,"2026年","7月",{"$f":"情報入力!G$39","v":0},{"$f":"情報入力!$G$63+IF(情報入力!$E$60=$C47,情報入力!$G$60,0)","v":0},0,null,0,"完納",{"$f":"情報入力!$G$63+IF(情報入力!$E$60=$C47,情報入力!$G$60,0)","v":0}]
[null,"2026年","8月",{"$f":"情報入力!G$39","v":0},{"$f":"情報入力!$G$63+IF(情報入力!$E$60=$C48,情報入力!$G$60,0)","v":0},0,null,0,"完納",{"$f":"情報入力!$G$63+IF(情報入力!$E$60=$C48,情報入力!$G$60,0)","v":0}]
[null,"2026年","9月",{"$f":"情報入力!G$39","v":0},{"$f":"情報入力!$G$63+IF(情報入力!$E$60=$C49,情報入力!$G$60,0)","v":0},0,null,0,"完納",{"$f":"情報入力!$G$63+IF(情報入力!$E$60=$C49,情報入力!$G$60,0)","v":0}]
[null,"2026年","10月",{"$f":"情報入力!G$39","v":0},{"$f":"情報入力!$G$63+IF(情報入力!$E$61=$C50,情報入力!$G$61,0)","v":0},0,null,0,"完納",{"$f":"情報入力!$G$63+IF(情報入力!$E$61=$C50,情報入力!$G$61,0)","v":0}]
[null,"2026年","11月",{"$f":"情報入力!G$39","v":0},{"$f":"情報入力!$G$63+IF(情報入力!$E$61=$C51,情報入力!$G$61,0)","v":0},0,null,0,"完納",{"$f":"情報入力!$G$63+IF(情報入力!$E$61=$C51,情報入力!$G$61,0)","v":0}]
[null,"2026年","12月",{"$f":"情報入力!G$39","v":0},{"$f":"情報入力!$G$63+IF(情報入力!$E$61=$C52,情報入力!$G$61,0)","v":0},0,null,0,"完納",{"$f":"情報入力!$G$63+IF(情報入力!$E$61=$C52,情報入力!$G$61,0)","v":0}]
[null,"2027年","1月",{"$f":"情報入力!G$39","v":0},{"$f":"情報入力!$G$63+IF(情報入力!$E$61=$C53,情報入力!$G$61,0)","v":0},0,null,0,"完納",{"$f":"情報入力!$G$63+IF(情報入力!$E$61=$C53,情報入力!$G$61,0)","v":0}]
[null,"2027年","2月",{"$f":"情報入力!G$39","v":0},{"$f":"情報入力!$G$63+IF(情報入力!$E$61=$C54,情報入力!$G$61,0)","v":0},0,null,0,"完納",{"$f":"情報入力!$G$63+IF(情報入力!$E$61=$C54,情報入力!$G$61,0)","v":0}]
[null,"2027年","3月",{"$f":"情報入力!G$39","v":0},{"$f":"情報入力!$G$63+IF(情報入力!$E$61=$C55,情報入力!$G$61,0)","v":0},0,null,0,"完納",{"$f":"情報入力!$G$63+IF(情報入力!$E$61=$C55,情報入力!$G$61,0)","v":0}]

{"sheet":"支払い計画表","index":2,"n_rows":37,"n_cols":13,"rows_kept":37,"cut":false,"hidden":false,"merged":[[3,5,3,8],[2,5,2,8],[6,2,6,3],[6,9,6,10],[21,2,21,3],[21,9,21,10]]}
[null,null,null,null,null,null,null,null,"作成日：",{"$f":"NOW()","v":"2022-11-17T17:34:42.070"}]
[]
["□支払い計画表　　",null,null,"学校名：",null,{"$f":"IF(情報入力!B2=0,\"\",IF(情報入力!B2=\"国際アート＿デザイン専門学校\",\"国際アート＆デザイン専門学校\",情報入力!B2))","v":""},null,null,null,null,"学生氏名"]
[null,null,null,"学科名・コース名：",null,{"$f":"IF(情報入力!B3=0,\"\",情報入力!B3)","v":""},null,null,null,{"$f":"情報入力!C3","v":""},"学籍番号"]
[]
[]
[null,"1年次","毎月支払額（ボーナス月★）",null,null,"納入残高",null,null,"3年次","毎月支払額（ボーナス月★）",null,null,"納入残高"]
[1,"2023-04-01",{"$f":"IF(シミュレーション!F8=0,\"\",シミュレーション!F8)","v":""},{"$f":"IF(シミュレーション!F8=0,\"\",IF(IF(情報入力!E$54=シミュレーション!C8,情報入力!G$54,0)=0,\"\",\"★\"))","v":""},{"$f":"IF(シミュレーション!G8=0,\"\",シミュレーション!G8)","v":""},{"$f":"IF(シミュレーション!H8=0,\"\",シミュレーション!H8)","v":-50000},null,1,"2025-04-01",{"$f":"IF(シミュレーション!F32=0,\" \",シミュレーション!F32)","v":" "},{"$f":"IF(シミュレーション!F32=0,\"\",IF(IF(情報入力!E$58=シミュレーション!C32,情報入力!G$58,0)=0,\"\",\"★\"))","v":""},null,{"$f":"IF(シミュレーション!H32=0,\" \",シミュレーション!H32)","v":" "}]
[2,"2023-05-01",{"$f":"IF(シミュレーション!F9=0,\"\",シミュレーション!F9)","v":""},{"$f":"IF(シミュレーション!F9=0,\"\",IF(IF(情報入力!E$54=シミュレーション!C9,情報入力!G$54,0)=0,\"\",\"★\"))","v":""},{"$f":"IF(シミュレーション!G9=0,\"\",シミュレーション!G9)","v":""},{"$f":"IF(シミュレーション!H9=0,\"\",シミュレーション!H9)","v":-50000},null,2,"2025-05-01",{"$f":"IF(シミュレーション!F33=0,\" \",シミュレーション!F33)","v":" "},{"$f":"IF(シミュレーション!F33=0,\"\",IF(IF(情報入力!E$58=シミュレーション!C33,情報入力!G$58,0)=0,\"\",\"★\"))","v":""},null,{"$f":"IF(シミュレーション!H33=0,\" \",シミュレーション!H33)","v":" "}]
[3,"2023-06-01",{"$f":"IF(シミュレーション!F10=0,\"\",シミュレーション!F10)","v":-50000},{"$f":"IF(シミュレーション!F10=0,\"\",IF(IF(情報入力!E$54=シミュレーション!C10,情報入力!G$54,0)=0,\"\",\"★\"))","v":""},{"$f":"IF(シミュレーション!G10=0,\"\",シミュレーション!G10)","v":""},{"$f":"IF(シミュレーション!H10=0,\"\",シミュレーション!H10)","v":""},null,3,"2025-06-01",{"$f":"IF(シミュレーション!F34=0,\" \",シミュレーション!F34)","v":" "},{"$f":"IF(シミュレーション!F34=0,\"\",IF(IF(情報入力!E$58=シミュレーション!C34,情報入力!G$58,0)=0,\"\",\"★\"))","v":""},null,{"$f":"IF(シミュレーション!H34=0,\" \",シミュレーション!H34)","v":" "}]
[4,"2023-07-01",{"$f":"IF(シミュレーション!F11=0,\"\",シミュレーション!F11)","v":""},{"$f":"IF(シミュレーション!F11=0,\"\",IF(IF(情報入力!E$54=シミュレーション!C11,情報入力!G$54,0)=0,\"\",\"★\"))","v":""},{"$f":"IF(シミュレーション!G11=0,\"\",シミュレーション!G11)","v":""},{"$f":"IF(シミュレーション!H11=0,\"\",シミュレーション!H11)","v":""},null,4,"2025-07-01",{"$f":"IF(シミュレーション!F35=0,\" \",シミュレーション!F35)","v":" "},{"$f":"IF(シミュレーション!F35=0,\"\",IF(IF(情報入力!E$58=シミュレーション!C35,情報入力!G$58,0)=0,\"\",\"★\"))","v":""},null,{"$f":"IF(シミュレーション!H35=0,\" \",シミュレーション!H35)","v":" "}]
[5,"2023-08-01",{"$f":"IF(シミュレーション!F12=0,\"\",シミュレーション!F12)","v":""},{"$f":"IF(シミュレーション!F12=0,\"\",IF(IF(情報入力!E$54=シミュレーション!C12,情報入力!G$54,0)=0,\"\",\"★\"))","v":""},{"$f":"IF(シミュレーション!G12=0,\"\",シミュレーション!G12)","v":""},{"$f":"IF(シミュレーション!H12=0,\"\",シミュレーション!H12)","v":""},null,5,"2025-08-01",{"$f":"IF(シミュレーション!F36=0,\" \",シミュレーション!F36)","v":" "},{"$f":"IF(シミュレーション!F36=0,\"\",IF(IF(情報入力!E$58=シミュレーション!C36,情報入力!G$58,0)=0,\"\",\"★\"))","v":""},null,{"$f":"IF(シミュレーション!H36=0,\" \",シミュレーション!H36)","v":" "}]
[6,"2023-09-01",{"$f":"IF(シミュレーション!F13=0,\"\",シミュレーション!F13)","v":""},{"$f":"IF(シミュレーション!F13=0,\"\",IF(IF(情報入力!E$54=シミュレーション!C13,情報入力!G$54,0)=0,\"\",\"★\"))","v":""},{"$f":"IF(シミュレーション!G13=0,\"\",シミュレーション!G13)","v":""},{"$f":"IF(シミュレーション!H13=0,\"\",シミュレーション!H13)","v":""},null,6,"2025-09-01",{"$f":"IF(シミュレーション!F37=0,\" \",シミュレーション!F37)","v":" "},{"$f":"IF(シミュレーション!F37=0,\"\",IF(IF(情報入力!E$58=シミュレーション!C37,情報入力!G$58,0)=0,\"\",\"★\"))","v":""},null,{"$f":"IF(シミュレーション!H37=0,\" \",シミュレーション!H37)","v":" "}]
[7,"2023-10-01",{"$f":"IF(シミュレーション!F14=0,\"\",シミュレーション!F14)","v":""},{"$f":"IF(シミュレーション!F14=0,\"\",IF(IF(情報入力!E$55=シミュレーション!C14,情報入力!G$55,0)=0,\"\",\"★\"))","v":""},{"$f":"IF(シミュレーション!G14=0,\"\",シミュレーション!G14)","v":""},{"$f":"IF(シミュレーション!H14=0,\"\",シミュレーション!H14)","v":""},null,7,"2025-10-01",{"$f":"IF(シミュレーション!F38=0,\" \",シミュレーション!F38)","v":" "},{"$f":"IF(シミュレーション!F38=0,\"\",IF(IF(情報入力!E$59=シミュレーション!C38,情報入力!G$59,0)=0,\"\",\"★\"))","v":""},null,{"$f":"IF(シミュレーション!H38=0,\" \",シミュレーション!H38)","v":" "}]
[8,"2023-11-01",{"$f":"IF(シミュレーション!F15=0,\"\",シミュレーション!F15)","v":""},{"$f":"IF(シミュレーション!F15=0,\"\",IF(IF(情報入力!E$55=シミュレーション!C15,情報入力!G$55,0)=0,\"\",\"★\"))","v":""},{"$f":"IF(シミュレーション!G15=0,\"\",シミュレーション!G15)","v":""},{"$f":"IF(シミュレーション!H15=0,\"\",シミュレーション!H15)","v":""},null,8,"2025-11-01",{"$f":"IF(シミュレーション!F39=0,\" \",シミュレーション!F39)","v":" "},{"$f":"IF(シミュレーション!F39=0,\"\",IF(IF(情報入力!E$59=シミュレーション!C39,情報入力!G$59,0)=0,\"\",\"★\"))","v":""},null,{"$f":"IF(シミュレーション!H39=0,\" \",シミュレーション!H39)","v":" "}]
[9,"2023-12-01",{"$f":"IF(シミュレーション!F16=0,\"\",シミュレーション!F16)","v":""},{"$f":"IF(シミュレーション!F16=0,\"\",IF(IF(情報入力!E$55=シミュレーション!C16,情報入力!G$55,0)=0,\"\",\"★\"))","v":""},{"$f":"IF(シミュレーション!G16=0,\"\",シミュレーション!G16)","v":""},{"$f":"IF(シミュレーション!H16=0,\"\",シミュレーション!H16)","v":""},null,9,"2025-12-01",{"$f":"IF(シミュレーション!F40=0,\" \",シミュレーション!F40)","v":" "},{"$f":"IF(シミュレーション!F40=0,\"\",IF(IF(情報入力!E$59=シミュレーション!C40,情報入力!G$59,0)=0,\"\",\"★\"))","v":""},null,{"$f":"IF(シミュレーション!H40=0,\" \",シミュレーション!H40)","v":" "}]
[10,"2024-01-01",{"$f":"IF(シミュレーション!F17=0,\"\",シミュレーション!F17)","v":""},{"$f":"IF(シミュレーション!F17=0,\"\",IF(IF(情報入力!E$55=シミュレーション!C17,情報入力!G$55,0)=0,\"\",\"★\"))","v":""},{"$f":"IF(シミュレーション!G17=0,\"\",シミュレーション!G17)","v":""},{"$f":"IF(シミュレーション!H17=0,\"\",シミュレーション!H17)","v":""},null,10,"2026-01-01",{"$f":"IF(シミュレーション!F41=0,\" \",シミュレーション!F41)","v":" "},{"$f":"IF(シミュレーション!F41=0,\"\",IF(IF(情報入力!E$59=シミュレーション!C41,情報入力!G$59,0)=0,\"\",\"★\"))","v":""},null,{"$f":"IF(シミュレーション!H41=0,\" \",シミュレーション!H41)","v":" "}]
[11,"2024-02-01",{"$f":"IF(シミュレーション!F18=0,\"\",シミュレーション!F18)","v":""},{"$f":"IF(シミュレーション!F18=0,\"\",IF(IF(情報入力!E$55=シミュレーション!C18,情報入力!G$55,0)=0,\"\",\"★\"))","v":""},{"$f":"IF(シミュレーション!G18=0,\"\",シミュレーション!G18)","v":""},{"$f":"IF(シミュレーション!H18=0,\"\",シミュレーション!H18)","v":""},null,11,"2026-02-01",{"$f":"IF(シミュレーション!F42=0,\" \",シミュレーション!F42)","v":" "},{"$f":"IF(シミュレーション!F42=0,\"\",IF(IF(情報入力!E$59=シミュレーション!C42,情報入力!G$59,0)=0,\"\",\"★\"))","v":""},null,{"$f":"IF(シミュレーション!H42=0,\" \",シミュレーション!H42)","v":" "}]
[12,"2024-03-01",{"$f":"IF(シミュレーション!F19=0,\"\",シミュレーション!F19)","v":""},{"$f":"IF(シミュレーション!F19=0,\"\",IF(IF(情報入力!E$55=シミュレーション!C19,情報入力!G$55,0)=0,\"\",\"★\"))","v":""},{"$f":"IF(シミュレーション!G19=0,\"\",シミュレーション!G19)","v":""},{"$f":"IF(シミュレーション!H19=0,\"\",シミュレーション!H19)","v":""},null,12,"2026-03-01",{"$f":"IF(シミュレーション!F43=0,\" \",シミュレーション!F43)","v":" "},{"$f":"IF(シミュレーション!F43=0,\"\",IF(IF(情報入力!E$59=シミュレーション!C43,情報入力!G$59,0)=0,\"\",\"★\"))","v":""},null,{"$f":"IF(シミュレーション!H43=0,\" \",シミュレーション!H43)","v":" "}]
[null,"納入合計",{"$f":"SUM(C8:C19)","v":-50000},null,null,null,null,null,"納入合計",{"$f":"SUM(J8:K19)","v":0}]
[]
[null,"2年次","毎月支払額（ボーナス月★）",null,null,"納入残高",null,null,"4年次","毎月支払額（ボーナス月★）",null,null,"納入残高"]
[1,"2024-04-01",{"$f":"IF(シミュレーション!F20=0,\" \",シミュレーション!F20)","v":" "},{"$f":"IF(シミュレーション!F20=0,\"\",IF(IF(情報入力!E$56=シミュレーション!C20,情報入力!G$56,0)=0,\"\",\"★\"))","v":""},null,{"$f":"IF(シミュレーション!H20=0,\" \",シミュレーション!H20)","v":" "},null,1,"2026-04-01",{"$f":"IF(シミュレーション!F44=0,\" \",シミュレーション!F44)","v":" "},{"$f":"IF(シミュレーション!F44=0,\"\",IF(IF(情報入力!E$60=シミュレーション!C44,情報入力!G$60,0)=0,\"\",\"★\"))","v":""},null,{"$f":"IF(シミュレーション!H44=0,\" \",シミュレーション!H44)","v":" "}]
[2,"2024-05-01",{"$f":"IF(シミュレーション!F21=0,\" \",シミュレーション!F21)","v":" "},{"$f":"IF(シミュレーション!F21=0,\"\",IF(IF(情報入力!E$56=シミュレーション!C21,情報入力!G$56,0)=0,\"\",\"★\"))","v":""},null,{"$f":"IF(シミュレーション!H21=0,\" \",シミュレーション!H21)","v":" "},null,2,"2026-05-01",{"$f":"IF(シミュレーション!F45=0,\" \",シミュレーション!F45)","v":" "},{"$f":"IF(シミュレーション!F45=0,\"\",IF(IF(情報入力!E$60=シミュレーション!C45,情報入力!G$60,0)=0,\"\",\"★\"))","v":""},null,{"$f":"IF(シミュレーション!H45=0,\" \",シミュレーション!H45)","v":" "}]
[3,"2024-06-01",{"$f":"IF(シミュレーション!F22=0,\" \",シミュレーション!F22)","v":" "},{"$f":"IF(シミュレーション!F22=0,\"\",IF(IF(情報入力!E$56=シミュレーション!C22,情報入力!G$56,0)=0,\"\",\"★\"))","v":""},null,{"$f":"IF(シミュレーション!H22=0,\" \",シミュレーション!H22)","v":" "},null,3,"2026-06-01",{"$f":"IF(シミュレーション!F46=0,\" \",シミュレーション!F46)","v":" "},{"$f":"IF(シミュレーション!F46=0,\"\",IF(IF(情報入力!E$60=シミュレーション!C46,情報入力!G$60,0)=0,\"\",\"★\"))","v":""},null,{"$f":"IF(シミュレーション!H46=0,\" \",シミュレーション!H46)","v":" "}]
[4,"2024-07-01",{"$f":"IF(シミュレーション!F23=0,\" \",シミュレーション!F23)","v":" "},{"$f":"IF(シミュレーション!F23=0,\"\",IF(IF(情報入力!E$56=シミュレーション!C23,情報入力!G$56,0)=0,\"\",\"★\"))","v":""},null,{"$f":"IF(シミュレーション!H23=0,\" \",シミュレーション!H23)","v":" "},null,4,"2026-07-01",{"$f":"IF(シミュレーション!F47=0,\" \",シミュレーション!F47)","v":" "},{"$f":"IF(シミュレーション!F47=0,\"\",IF(IF(情報入力!E$60=シミュレーション!C47,情報入力!G$60,0)=0,\"\",\"★\"))","v":""},null,{"$f":"IF(シミュレーション!H47=0,\" \",シミュレーション!H47)","v":" "}]
[5,"2024-08-01",{"$f":"IF(シミュレーション!F24=0,\" \",シミュレーション!F24)","v":" "},{"$f":"IF(シミュレーション!F24=0,\"\",IF(IF(情報入力!E$56=シミュレーション!C24,情報入力!G$56,0)=0,\"\",\"★\"))","v":""},null,{"$f":"IF(シミュレーション!H24=0,\" \",シミュレーション!H24)","v":" "},null,5,"2026-08-01",{"$f":"IF(シミュレーション!F48=0,\" \",シミュレーション!F48)","v":" "},{"$f":"IF(シミュレーション!F48=0,\"\",IF(IF(情報入力!E$60=シミュレーション!C48,情報入力!G$60,0)=0,\"\",\"★\"))","v":""},null,{"$f":"IF(シミュレーション!H48=0,\" \",シミュレーション!H48)","v":" "}]
[6,"2024-09-01",{"$f":"IF(シミュレーション!F25=0,\" \",シミュレーション!F25)","v":" "},{"$f":"IF(シミュレーション!F25=0,\"\",IF(IF(情報入力!E$56=シミュレーション!C25,情報入力!G$56,0)=0,\"\",\"★\"))","v":""},null,{"$f":"IF(シミュレーション!H25=0,\" \",シミュレーション!H25)","v":" "},null,6,"2026-09-01",{"$f":"IF(シミュレーション!F49=0,\" \",シミュレーション!F49)","v":" "},{"$f":"IF(シミュレーション!F49=0,\"\",IF(IF(情報入力!E$60=シミュレーション!C49,情報入力!G$60,0)=0,\"\",\"★\"))","v":""},null,{"$f":"IF(シミュレーション!H49=0,\" \",シミュレーション!H49)","v":" "}]
[7,"2024-10-01",{"$f":"IF(シミュレーション!F26=0,\" \",シミュレーション!F26)","v":" "},{"$f":"IF(シミュレーション!F26=0,\"\",IF(IF(情報入力!E$57=シミュレーション!C26,情報入力!G$57,0)=0,\"\",\"★\"))","v":""},null,{"$f":"IF(シミュレーション!H26=0,\" \",シミュレーション!H26)","v":" "},null,7,"2026-10-01",{"$f":"IF(シミュレーション!F50=0,\" \",シミュレーション!F50)","v":" "},{"$f":"IF(シミュレーション!F50=0,\"\",IF(IF(情報入力!E$61=シミュレーション!C50,情報入力!G$61,0)=0,\"\",\"★\"))","v":""},null,{"$f":"IF(シミュレーション!H50=0,\" \",シミュレーション!H50)","v":" "}]
[8,"2024-11-01",{"$f":"IF(シミュレーション!F27=0,\" \",シミュレーション!F27)","v":" "},{"$f":"IF(シミュレーション!F27=0,\"\",IF(IF(情報入力!E$57=シミュレーション!C27,情報入力!G$57,0)=0,\"\",\"★\"))","v":""},null,{"$f":"IF(シミュレーション!H27=0,\" \",シミュレーション!H27)","v":" "},null,8,"2026-11-01",{"$f":"IF(シミュレーション!F51=0,\" \",シミュレーション!F51)","v":" "},{"$f":"IF(シミュレーション!F51=0,\"\",IF(IF(情報入力!E$61=シミュレーション!C51,情報入力!G$61,0)=0,\"\",\"★\"))","v":""},null,{"$f":"IF(シミュレーション!H51=0,\" \",シミュレーション!H51)","v":" "}]
[9,"2024-12-01",{"$f":"IF(シミュレーション!F28=0,\" \",シミュレーション!F28)","v":" "},{"$f":"IF(シミュレーション!F28=0,\"\",IF(IF(情報入力!E$57=シミュレーション!C28,情報入力!G$57,0)=0,\"\",\"★\"))","v":""},null,{"$f":"IF(シミュレーション!H28=0,\" \",シミュレーション!H28)","v":" "},null,9,"2026-12-01",{"$f":"IF(シミュレーション!F52=0,\" \",シミュレーション!F52)","v":" "},{"$f":"IF(シミュレーション!F52=0,\"\",IF(IF(情報入力!E$61=シミュレーション!C52,情報入力!G$61,0)=0,\"\",\"★\"))","v":""},null,{"$f":"IF(シミュレーション!H52=0,\" \",シミュレーション!H52)","v":" "}]
[10,"2025-01-01",{"$f":"IF(シミュレーション!F29=0,\" \",シミュレーション!F29)","v":" "},{"$f":"IF(シミュレーション!F29=0,\"\",IF(IF(情報入力!E$57=シミュレーション!C29,情報入力!G$57,0)=0,\"\",\"★\"))","v":""},null,{"$f":"IF(シミュレーション!H29=0,\" \",シミュレーション!H29)","v":" "},null,10,"2027-01-01",{"$f":"IF(シミュレーション!F53=0,\" \",シミュレーション!F53)","v":" "},{"$f":"IF(シミュレーション!F53=0,\"\",IF(IF(情報入力!E$61=シミュレーション!C53,情報入力!G$61,0)=0,\"\",\"★\"))","v":""},null,{"$f":"IF(シミュレーション!H53=0,\" \",シミュレーション!H53)","v":" "}]
[11,"2025-02-01",{"$f":"IF(シミュレーション!F30=0,\" \",シミュレーション!F30)","v":" "},{"$f":"IF(シミュレーション!F30=0,\"\",IF(IF(情報入力!E$57=シミュレーション!C30,情報入力!G$57,0)=0,\"\",\"★\"))","v":""},null,{"$f":"IF(シミュレーション!H30=0,\" \",シミュレーション!H30)","v":" "},null,11,"2027-02-01",{"$f":"IF(シミュレーション!F54=0,\" \",シミュレーション!F54)","v":" "},{"$f":"IF(シミュレーション!F54=0,\"\",IF(IF(情報入力!E$61=シミュレーション!C54,情報入力!G$61,0)=0,\"\",\"★\"))","v":""},null,{"$f":"IF(シミュレーション!H54=0,\" \",シミュレーション!H54)","v":" "}]
[12,"2025-03-01",{"$f":"IF(シミュレーション!F31=0,\" \",シミュレーション!F31)","v":" "},{"$f":"IF(シミュレーション!F31=0,\"\",IF(IF(情報入力!E$57=シミュレーション!C31,情報入力!G$57,0)=0,\"\",\"★\"))","v":""},null,{"$f":"IF(シミュレーション!H31=0,\" \",シミュレーション!H31)","v":" "},null,12,"2027-03-01",{"$f":"IF(シミュレーション!F55=0,\" \",シミュレーション!F55)","v":" "},{"$f":"IF(シミュレーション!F55=0,\"\",IF(IF(情報入力!E$61=シミュレーション!C55,情報入力!G$61,0)=0,\"\",\"★\"))","v":""},null,{"$f":"IF(シミュレーション!H55=0,\" \",シミュレーション!H55)","v":" "}]
[null,"納入合計",{"$f":"SUM(C23:D34)","v":0},null,null,null,null,null,"納入合計",{"$f":"SUM(J23:K34)","v":0}]
[]
[null,"※上記計画の通り、学費等の分割納入制度を申し込みます。事務手数料として15,000円(税別/年数)を指定日までにお納めいただきます。"]

{"sheet":"シミュレーション※金額入力可能","index":3,"n_rows":55,"n_cols":9,"rows_kept":55,"cut":false,"hidden":false,"merged":[[6,0,18,0],[19,0,30,0],[31,0,42,0],[43,0,54,0]]}
["学費分納シミュレーション"]
[null,"※下記金額とは別に事務手数料として15,000円(税別/年数)をお納めいただきます。"]
[null,"※奨学金の初回貸与は申し込み手続き上、3ヶ月分(4月～6月)を6月貸与、支払いでシミュレーションしております。"]
[]
[null,null,null,null,null,null,"納入学費の総合計",{"$f":"情報入力!C29","v":0}]
[null,null,null,"月々奨学金貸与額","ボーナス等自己負担額","学費の支払い","学費の免除","納入残高"]
["１年次","令和4年","入学前",null,null,{"$f":"SUM(D7:E7)","v":0},null,{"$f":"H5-F7-G7","v":0},{"$f":"IF(H7<=0,\"完納\",\"\")","v":"完納"}]
[null,"2023年","4月",null,null,{"$f":"IF(SUM(D8:E8)<=H7,SUM(D8:E8),H7)","v":0},null,{"$f":"H7-F8-G8","v":0},{"$f":"IF(H8<=0,\"完納\",\"\")","v":"完納"}]
[null,"2023年","5月",null,null,{"$f":"IF(SUM(D9:E9)<=H8,SUM(D9:E9),H8)","v":0},null,{"$f":"H8-F9-G9","v":0},"完納"]
[null,"2023年","6月",null,null,{"$f":"IF(SUM(D10:E10)<=H9,SUM(D10:E10),H9)","v":0},null,0,"完納"]
[null,"2023年","7月",null,null,{"$f":"IF(SUM(D11:E11)<=H10,SUM(D11:E11),H10)","v":0},null,0,"完納"]
[null,"2023年","8月",null,null,{"$f":"IF(SUM(D12:E12)<=H11,SUM(D12:E12),H11)","v":0},null,0,"完納"]
[null,"2023年","9月",null,null,{"$f":"IF(SUM(D13:E13)<=H12,SUM(D13:E13),H12)","v":0},null,0,"完納"]
[null,"2023年","10月",null,null,0,null,0,"完納"]
[null,"2023年","11月",null,null,0,null,0,"完納"]
[null,"2023年","12月",null,null,0,null,0,"完納"]
[null,"2024年","1月",null,null,0,null,0,"完納"]
[null,"2024年","2月",null,null,0,null,0,"完納"]
[null,"2024年","3月",null,null,0,null,0,"完納"]
["２年次","2024年","4月",null,null,0,null,0,"完納"]
[null,"2024年","5月",null,null,0,null,0,"完納"]
[null,"2024年","6月",null,null,0,null,0,"完納"]
[null,"2024年","7月",null,null,0,null,0,"完納"]
[null,"2024年","8月",null,null,0,null,0,"完納"]
[null,"2024年","9月",null,null,0,null,0,"完納"]
[null,"2024年","10月",null,null,0,null,0,"完納"]
[null,"2024年","11月",null,null,0,null,0,"完納"]
[null,"2024年","12月",null,null,0,null,0,"完納"]
[null,"2025年","1月",null,null,0,null,0,"完納"]
[null,"2025年","2月",null,null,0,null,0,"完納"]
[null,"2025年","3月",null,null,0,null,0,"完納"]
["３年次","2025年","4月",null,null,0,null,0,"完納"]
[null,"2025年","5月",null,null,0,null,0,"完納"]
[null,"2025年","6月",null,null,0,null,0,"完納"]
[null,"2025年","7月",null,null,0,null,0,"完納"]
[null,"2025年","8月",null,null,0,null,0,"完納"]
[null,"2025年","9月",null,null,0,null,0,"完納"]
[null,"2025年","10月",null,null,0,null,0,"完納"]
[null,"2025年","11月",null,null,0,null,0,"完納"]
[null,"2025年","12月",null,null,0,null,0,"完納"]
[null,"2026年","1月",null,null,{"$f":"IF(SUM(D41:E41)<=H40,SUM(D41:E41),H40)","v":0},null,0,{"$f":"IF(H41<=0,\"完納\",\"\")","v":"完納"}]
[null,"2026年","2月",null,null,0,null,0,"完納"]
[null,"2026年","3月",null,null,0,null,0,"完納"]
["４年次","2026年","4月",null,null,0,null,0,"完納"]
[null,"2026年","5月",null,null,0,null,0,"完納"]
[null,"2026年","6月",null,null,0,null,0,"完納"]
[null,"2026年","7月",null,null,0,null,0,"完納"]
[null,"2026年","8月",null,null,0,null,0,"完納"]
[null,"2026年","9月",null,null,0,null,0,"完納"]
[null,"2026年","10月",null,null,0,null,0,"完納"]
[null,"2026年","11月",null,null,0,null,0,"完納"]
[null,"2026年","12月",null,null,0,null,0,"完納"]
[null,"2027年","1月",null,null,0,null,0,"完納"]
[null,"2027年","2月",null,null,0,null,0,"完納"]
[null,"2027年","3月",null,null,0,null,0,"完納"]

{"sheet":"支払い計画表※金額入力可能","index":4,"n_rows":37,"n_cols":13,"rows_kept":37,"cut":false,"hidden":false,"merged":[[2,5,2,8],[3,5,3,8],[6,2,6,3],[6,9,6,10],[21,2,21,3],[21,9,21,10]]}
[null,null,null,null,null,null,null,null,"作成日：",{"$f":"NOW()","v":"2022-11-17T17:34:42.070"}]
[]
["□支払い計画表　　",null,null,null,"学校名：",{"$f":"IF(情報入力!B2=0,\"\",IF(情報入力!B2=\"国際アート＿デザイン専門学校\",\"国際アート＆デザイン専門学校\",情報入力!B2))","v":""},null,null,null,null,"学生氏名"]
[null,null,null,null,"学科名・コース名：",{"$f":"IF(情報入力!B3=0,\"\",情報入力!B3)","v":""},null,null,null,{"$f":"情報入力!C3","v":""},"学籍番号"]
[]
[]
[null,"1年次","毎月支払額（ボーナス月★）",null,"学費免除額","納入残高",null,null,"3年次","毎月支払額（ボーナス月★）",null,"学費免除額","納入残高"]
[1,"2023-04-01",{"$f":"IF(シミュレーション※金額入力可能!F8=0,\"\",シミュレーション※金額入力可能!F8)","v":""},{"$f":"IF(シミュレーション※金額入力可能!F8=0,\"\",IF(IF(情報入力!E$54=シミュレーション※金額入力可能!C8,情報入力!G$54,0)=0,\"\",\"★\"))","v":""},{"$f":"IF(シミュレーション※金額入力可能!G8=0,\"\",シミュレーション※金額入力可能!G8)","v":""},{"$f":"IF(シミュレーション※金額入力可能!H8=0,\"\",シミュレーション※金額入力可能!H8)","v":""},null,1,"2025-04-01",{"$f":"IF(シミュレーション※金額入力可能!F32=0,\" \",シミュレーション※金額入力可能!F32)","v":" "},{"$f":"IF(シミュレーション※金額入力可能!F32=0,\"\",IF(IF(情報入力!E$58=シミュレーション※金額入力可能!C32,情報入力!G$58,0)=0,\"\",\"★\"))","v":""},null,{"$f":"IF(シミュレーション※金額入力可能!H32=0,\" \",シミュレーション※金額入力可能!H32)","v":" "}]
[2,"2023-05-01",{"$f":"IF(シミュレーション※金額入力可能!F9=0,\"\",シミュレーション※金額入力可能!F9)","v":""},{"$f":"IF(シミュレーション※金額入力可能!F9=0,\"\",IF(IF(情報入力!E$54=シミュレーション※金額入力可能!C9,情報入力!G$54,0)=0,\"\",\"★\"))","v":""},{"$f":"IF(シミュレーション※金額入力可能!G9=0,\"\",シミュレーション※金額入力可能!G9)","v":""},{"$f":"IF(シミュレーション※金額入力可能!H9=0,\"\",シミュレーション※金額入力可能!H9)","v":""},null,2,"2025-05-01",{"$f":"IF(シミュレーション※金額入力可能!F33=0,\" \",シミュレーション※金額入力可能!F33)","v":" "},{"$f":"IF(シミュレーション※金額入力可能!F33=0,\"\",IF(IF(情報入力!E$58=シミュレーション※金額入力可能!C33,情報入力!G$58,0)=0,\"\",\"★\"))","v":""},null,{"$f":"IF(シミュレーション※金額入力可能!H33=0,\" \",シミュレーション※金額入力可能!H33)","v":" "}]
[3,"2023-06-01",{"$f":"IF(シミュレーション※金額入力可能!F10=0,\"\",シミュレーション※金額入力可能!F10)","v":""},{"$f":"IF(シミュレーション※金額入力可能!F10=0,\"\",IF(IF(情報入力!E$54=シミュレーション※金額入力可能!C10,情報入力!G$54,0)=0,\"\",\"★\"))","v":""},{"$f":"IF(シミュレーション※金額入力可能!G10=0,\"\",シミュレーション※金額入力可能!G10)","v":""},{"$f":"IF(シミュレーション※金額入力可能!H10=0,\"\",シミュレーション※金額入力可能!H10)","v":""},null,3,"2025-06-01",{"$f":"IF(シミュレーション※金額入力可能!F34=0,\" \",シミュレーション※金額入力可能!F34)","v":" "},{"$f":"IF(シミュレーション※金額入力可能!F34=0,\"\",IF(IF(情報入力!E$58=シミュレーション※金額入力可能!C34,情報入力!G$58,0)=0,\"\",\"★\"))","v":""},null,{"$f":"IF(シミュレーション※金額入力可能!H34=0,\" \",シミュレーション※金額入力可能!H34)","v":" "}]
[4,"2023-07-01",{"$f":"IF(シミュレーション※金額入力可能!F11=0,\"\",シミュレーション※金額入力可能!F11)","v":""},{"$f":"IF(シミュレーション※金額入力可能!F11=0,\"\",IF(IF(情報入力!E$54=シミュレーション※金額入力可能!C11,情報入力!G$54,0)=0,\"\",\"★\"))","v":""},{"$f":"IF(シミュレーション※金額入力可能!G11=0,\"\",シミュレーション※金額入力可能!G11)","v":""},{"$f":"IF(シミュレーション※金額入力可能!H11=0,\"\",シミュレーション※金額入力可能!H11)","v":""},null,4,"2025-07-01",{"$f":"IF(シミュレーション※金額入力可能!F35=0,\" \",シミュレーション※金額入力可能!F35)","v":" "},{"$f":"IF(シミュレーション※金額入力可能!F35=0,\"\",IF(IF(情報入力!E$58=シミュレーション※金額入力可能!C35,情報入力!G$58,0)=0,\"\",\"★\"))","v":""},null,{"$f":"IF(シミュレーション※金額入力可能!H35=0,\" \",シミュレーション※金額入力可能!H35)","v":" "}]
[5,"2023-08-01",{"$f":"IF(シミュレーション※金額入力可能!F12=0,\"\",シミュレーション※金額入力可能!F12)","v":""},{"$f":"IF(シミュレーション※金額入力可能!F12=0,\"\",IF(IF(情報入力!E$54=シミュレーション※金額入力可能!C12,情報入力!G$54,0)=0,\"\",\"★\"))","v":""},{"$f":"IF(シミュレーション※金額入力可能!G12=0,\"\",シミュレーション※金額入力可能!G12)","v":""},{"$f":"IF(シミュレーション※金額入力可能!H12=0,\"\",シミュレーション※金額入力可能!H12)","v":""},null,5,"2025-08-01",{"$f":"IF(シミュレーション※金額入力可能!F36=0,\" \",シミュレーション※金額入力可能!F36)","v":" "},{"$f":"IF(シミュレーション※金額入力可能!F36=0,\"\",IF(IF(情報入力!E$58=シミュレーション※金額入力可能!C36,情報入力!G$58,0)=0,\"\",\"★\"))","v":""},null,{"$f":"IF(シミュレーション※金額入力可能!H36=0,\" \",シミュレーション※金額入力可能!H36)","v":" "}]
[6,"2023-09-01",{"$f":"IF(シミュレーション※金額入力可能!F13=0,\"\",シミュレーション※金額入力可能!F13)","v":""},{"$f":"IF(シミュレーション※金額入力可能!F13=0,\"\",IF(IF(情報入力!E$54=シミュレーション※金額入力可能!C13,情報入力!G$54,0)=0,\"\",\"★\"))","v":""},{"$f":"IF(シミュレーション※金額入力可能!G13=0,\"\",シミュレーション※金額入力可能!G13)","v":""},{"$f":"IF(シミュレーション※金額入力可能!H13=0,\"\",シミュレーション※金額入力可能!H13)","v":""},null,6,"2025-09-01",{"$f":"IF(シミュレーション※金額入力可能!F37=0,\" \",シミュレーション※金額入力可能!F37)","v":" "},{"$f":"IF(シミュレーション※金額入力可能!F37=0,\"\",IF(IF(情報入力!E$58=シミュレーション※金額入力可能!C37,情報入力!G$58,0)=0,\"\",\"★\"))","v":""},null,{"$f":"IF(シミュレーション※金額入力可能!H37=0,\" \",シミュレーション※金額入力可能!H37)","v":" "}]
[7,"2023-10-01",{"$f":"IF(シミュレーション※金額入力可能!F14=0,\"\",シミュレーション※金額入力可能!F14)","v":""},{"$f":"IF(シミュレーション※金額入力可能!F14=0,\"\",IF(IF(情報入力!E$55=シミュレーション※金額入力可能!C14,情報入力!G$55,0)=0,\"\",\"★\"))","v":""},{"$f":"IF(シミュレーション※金額入力可能!G14=0,\"\",シミュレーション※金額入力可能!G14)","v":""},{"$f":"IF(シミュレーション※金額入力可能!H14=0,\"\",シミュレーション※金額入力可能!H14)","v":""},null,7,"2025-10-01",{"$f":"IF(シミュレーション※金額入力可能!F38=0,\" \",シミュレーション※金額入力可能!F38)","v":" "},{"$f":"IF(シミュレーション※金額入力可能!F38=0,\"\",IF(IF(情報入力!E$59=シミュレーション※金額入力可能!C38,情報入力!G$59,0)=0,\"\",\"★\"))","v":""},null,{"$f":"IF(シミュレーション※金額入力可能!H38=0,\" \",シミュレーション※金額入力可能!H38)","v":" "}]
[8,"2023-11-01",{"$f":"IF(シミュレーション※金額入力可能!F15=0,\"\",シミュレーション※金額入力可能!F15)","v":""},{"$f":"IF(シミュレーション※金額入力可能!F15=0,\"\",IF(IF(情報入力!E$55=シミュレーション※金額入力可能!C15,情報入力!G$55,0)=0,\"\",\"★\"))","v":""},{"$f":"IF(シミュレーション※金額入力可能!G15=0,\"\",シミュレーション※金額入力可能!G15)","v":""},{"$f":"IF(シミュレーション※金額入力可能!H15=0,\"\",シミュレーション※金額入力可能!H15)","v":""},null,8,"2025-11-01",{"$f":"IF(シミュレーション※金額入力可能!F39=0,\" \",シミュレーション※金額入力可能!F39)","v":" "},{"$f":"IF(シミュレーション※金額入力可能!F39=0,\"\",IF(IF(情報入力!E$59=シミュレーション※金額入力可能!C39,情報入力!G$59,0)=0,\"\",\"★\"))","v":""},null,{"$f":"IF(シミュレーション※金額入力可能!H39=0,\" \",シミュレーション※金額入力可能!H39)","v":" "}]
[9,"2023-12-01",{"$f":"IF(シミュレーション※金額入力可能!F16=0,\"\",シミュレーション※金額入力可能!F16)","v":""},{"$f":"IF(シミュレーション※金額入力可能!F16=0,\"\",IF(IF(情報入力!E$55=シミュレーション※金額入力可能!C16,情報入力!G$55,0)=0,\"\",\"★\"))","v":""},{"$f":"IF(シミュレーション※金額入力可能!G16=0,\"\",シミュレーション※金額入力可能!G16)","v":""},{"$f":"IF(シミュレーション※金額入力可能!H16=0,\"\",シミュレーション※金額入力可能!H16)","v":""},null,9,"2025-12-01",{"$f":"IF(シミュレーション※金額入力可能!F40=0,\" \",シミュレーション※金額入力可能!F40)","v":" "},{"$f":"IF(シミュレーション※金額入力可能!F40=0,\"\",IF(IF(情報入力!E$59=シミュレーション※金額入力可能!C40,情報入力!G$59,0)=0,\"\",\"★\"))","v":""},null,{"$f":"IF(シミュレーション※金額入力可能!H40=0,\" \",シミュレーション※金額入力可能!H40)","v":" "}]
[10,"2024-01-01",{"$f":"IF(シミュレーション※金額入力可能!F17=0,\"\",シミュレーション※金額入力可能!F17)","v":""},{"$f":"IF(シミュレーション※金額入力可能!F17=0,\"\",IF(IF(情報入力!E$55=シミュレーション※金額入力可能!C17,情報入力!G$55,0)=0,\"\",\"★\"))","v":""},{"$f":"IF(シミュレーション※金額入力可能!G17=0,\"\",シミュレーション※金額入力可能!G17)","v":""},{"$f":"IF(シミュレーション※金額入力可能!H17=0,\"\",シミュレーション※金額入力可能!H17)","v":""},null,10,"2026-01-01",{"$f":"IF(シミュレーション※金額入力可能!F41=0,\" \",シミュレーション※金額入力可能!F41)","v":" "},{"$f":"IF(シミュレーション※金額入力可能!F41=0,\"\",IF(IF(情報入力!E$59=シミュレーション※金額入力可能!C41,情報入力!G$59,0)=0,\"\",\"★\"))","v":""},null,{"$f":"IF(シミュレーション※金額入力可能!H41=0,\" \",シミュレーション※金額入力可能!H41)","v":" "}]
[11,"2024-02-01",{"$f":"IF(シミュレーション※金額入力可能!F18=0,\"\",シミュレーション※金額入力可能!F18)","v":""},{"$f":"IF(シミュレーション※金額入力可能!F18=0,\"\",IF(IF(情報入力!E$55=シミュレーション※金額入力可能!C18,情報入力!G$55,0)=0,\"\",\"★\"))","v":""},{"$f":"IF(シミュレーション※金額入力可能!G18=0,\"\",シミュレーション※金額入力可能!G18)","v":""},{"$f":"IF(シミュレーション※金額入力可能!H18=0,\"\",シミュレーション※金額入力可能!H18)","v":""},null,11,"2026-02-01",{"$f":"IF(シミュレーション※金額入力可能!F42=0,\" \",シミュレーション※金額入力可能!F42)","v":" "},{"$f":"IF(シミュレーション※金額入力可能!F42=0,\"\",IF(IF(情報入力!E$59=シミュレーション※金額入力可能!C42,情報入力!G$59,0)=0,\"\",\"★\"))","v":""},null,{"$f":"IF(シミュレーション※金額入力可能!H42=0,\" \",シミュレーション※金額入力可能!H42)","v":" "}]
[12,"2024-03-01",{"$f":"IF(シミュレーション※金額入力可能!F19=0,\"\",シミュレーション※金額入力可能!F19)","v":""},{"$f":"IF(シミュレーション※金額入力可能!F19=0,\"\",IF(IF(情報入力!E$55=シミュレーション※金額入力可能!C19,情報入力!G$55,0)=0,\"\",\"★\"))","v":""},{"$f":"IF(シミュレーション※金額入力可能!G19=0,\"\",シミュレーション※金額入力可能!G19)","v":""},{"$f":"IF(シミュレーション※金額入力可能!H19=0,\"\",シミュレーション※金額入力可能!H19)","v":""},null,12,"2026-03-01",{"$f":"IF(シミュレーション※金額入力可能!F43=0,\" \",シミュレーション※金額入力可能!F43)","v":" "},{"$f":"IF(シミュレーション※金額入力可能!F43=0,\"\",IF(IF(情報入力!E$59=シミュレーション※金額入力可能!C43,情報入力!G$59,0)=0,\"\",\"★\"))","v":""},null,{"$f":"IF(シミュレーション※金額入力可能!H43=0,\" \",シミュレーション※金額入力可能!H43)","v":" "}]
[null,"納入合計",{"$f":"SUM(C8:C19)","v":0},null,null,null,null,null,"納入合計",{"$f":"SUM(J8:K19)","v":0}]
[]
[null,"2年次","毎月支払額（ボーナス月★）",null,"学費免除額","納入残高",null,null,"4年次","毎月支払額（ボーナス月★）",null,"学費免除額","納入残高"]
[1,"2024-04-01",{"$f":"IF(シミュレーション※金額入力可能!F20=0,\" \",シミュレーション※金額入力可能!F20)","v":" "},{"$f":"IF(シミュレーション※金額入力可能!F20=0,\"\",IF(IF(情報入力!E$56=シミュレーション※金額入力可能!C20,情報入力!G$56,0)=0,\"\",\"★\"))","v":""},null,{"$f":"IF(シミュレーション※金額入力可能!H20=0,\" \",シミュレーション※金額入力可能!H20)","v":" "},null,1,"2026-04-01",{"$f":"IF(シミュレーション※金額入力可能!F44=0,\" \",シミュレーション※金額入力可能!F44)","v":" "},{"$f":"IF(シミュレーション※金額入力可能!F44=0,\"\",IF(IF(情報入力!E$60=シミュレーション※金額入力可能!C44,情報入力!G$60,0)=0,\"\",\"★\"))","v":""},null,{"$f":"IF(シミュレーション※金額入力可能!H44=0,\" \",シミュレーション※金額入力可能!H44)","v":" "}]
[2,"2024-05-01",{"$f":"IF(シミュレーション※金額入力可能!F21=0,\" \",シミュレーション※金額入力可能!F21)","v":" "},{"$f":"IF(シミュレーション※金額入力可能!F21=0,\"\",IF(IF(情報入力!E$56=シミュレーション※金額入力可能!C21,情報入力!G$56,0)=0,\"\",\"★\"))","v":""},null,{"$f":"IF(シミュレーション※金額入力可能!H21=0,\" \",シミュレーション※金額入力可能!H21)","v":" "},null,2,"2026-05-01",{"$f":"IF(シミュレーション※金額入力可能!F45=0,\" \",シミュレーション※金額入力可能!F45)","v":" "},{"$f":"IF(シミュレーション※金額入力可能!F45=0,\"\",IF(IF(情報入力!E$60=シミュレーション※金額入力可能!C45,情報入力!G$60,0)=0,\"\",\"★\"))","v":""},null,{"$f":"IF(シミュレーション※金額入力可能!H45=0,\" \",シミュレーション※金額入力可能!H45)","v":" "}]
[3,"2024-06-01",{"$f":"IF(シミュレーション※金額入力可能!F22=0,\" \",シミュレーション※金額入力可能!F22)","v":" "},{"$f":"IF(シミュレーション※金額入力可能!F22=0,\"\",IF(IF(情報入力!E$56=シミュレーション※金額入力可能!C22,情報入力!G$56,0)=0,\"\",\"★\"))","v":""},null,{"$f":"IF(シミュレーション※金額入力可能!H22=0,\" \",シミュレーション※金額入力可能!H22)","v":" "},null,3,"2026-06-01",{"$f":"IF(シミュレーション※金額入力可能!F46=0,\" \",シミュレーション※金額入力可能!F46)","v":" "},{"$f":"IF(シミュレーション※金額入力可能!F46=0,\"\",IF(IF(情報入力!E$60=シミュレーション※金額入力可能!C46,情報入力!G$60,0)=0,\"\",\"★\"))","v":""},null,{"$f":"IF(シミュレーション※金額入力可能!H46=0,\" \",シミュレーション※金額入力可能!H46)","v":" "}]
[4,"2024-07-01",{"$f":"IF(シミュレーション※金額入力可能!F23=0,\" \",シミュレーション※金額入力可能!F23)","v":" "},{"$f":"IF(シミュレーション※金額入力可能!F23=0,\"\",IF(IF(情報入力!E$56=シミュレーション※金額入力可能!C23,情報入力!G$56,0)=0,\"\",\"★\"))","v":""},null,{"$f":"IF(シミュレーション※金額入力可能!H23=0,\" \",シミュレーション※金額入力可能!H23)","v":" "},null,4,"2026-07-01",{"$f":"IF(シミュレーション※金額入力可能!F47=0,\" \",シミュレーション※金額入力可能!F47)","v":" "},{"$f":"IF(シミュレーション※金額入力可能!F47=0,\"\",IF(IF(情報入力!E$60=シミュレーション※金額入力可能!C47,情報入力!G$60,0)=0,\"\",\"★\"))","v":""},null,{"$f":"IF(シミュレーション※金額入力可能!H47=0,\" \",シミュレーション※金額入力可能!H47)","v":" "}]
[5,"2024-08-01",{"$f":"IF(シミュレーション※金額入力可能!F24=0,\" \",シミュレーション※金額入力可能!F24)","v":" "},{"$f":"IF(シミュレーション※金額入力可能!F24=0,\"\",IF(IF(情報入力!E$56=シミュレーション※金額入力可能!C24,情報入力!G$56,0)=0,\"\",\"★\"))","v":""},null,{"$f":"IF(シミュレーション※金額入力可能!H24=0,\" \",シミュレーション※金額入力可能!H24)","v":" "},null,5,"2026-08-01",{"$f":"IF(シミュレーション※金額入力可能!F48=0,\" \",シミュレーション※金額入力可能!F48)","v":" "},{"$f":"IF(シミュレーション※金額入力可能!F48=0,\"\",IF(IF(情報入力!E$60=シミュレーション※金額入力可能!C48,情報入力!G$60,0)=0,\"\",\"★\"))","v":""},null,{"$f":"IF(シミュレーション※金額入力可能!H48=0,\" \",シミュレーション※金額入力可能!H48)","v":" "}]
[6,"2024-09-01",{"$f":"IF(シミュレーション※金額入力可能!F25=0,\" \",シミュレーション※金額入力可能!F25)","v":" "},{"$f":"IF(シミュレーション※金額入力可能!F25=0,\"\",IF(IF(情報入力!E$56=シミュレーション※金額入力可能!C25,情報入力!G$56,0)=0,\"\",\"★\"))","v":""},null,{"$f":"IF(シミュレーション※金額入力可能!H25=0,\" \",シミュレーション※金額入力可能!H25)","v":" "},null,6,"2026-09-01",{"$f":"IF(シミュレーション※金額入力可能!F49=0,\" \",シミュレーション※金額入力可能!F49)","v":" "},{"$f":"IF(シミュレーション※金額入力可能!F49=0,\"\",IF(IF(情報入力!E$60=シミュレーション※金額入力可能!C49,情報入力!G$60,0)=0,\"\",\"★\"))","v":""},null,{"$f":"IF(シミュレーション※金額入力可能!H49=0,\" \",シミュレーション※金額入力可能!H49)","v":" "}]
[7,"2024-10-01",{"$f":"IF(シミュレーション※金額入力可能!F26=0,\" \",シミュレーション※金額入力可能!F26)","v":" "},{"$f":"IF(シミュレーション※金額入力可能!F26=0,\"\",IF(IF(情報入力!E$57=シミュレーション※金額入力可能!C26,情報入力!G$57,0)=0,\"\",\"★\"))","v":""},null,{"$f":"IF(シミュレーション※金額入力可能!H26=0,\" \",シミュレーション※金額入力可能!H26)","v":" "},null,7,"2026-10-01",{"$f":"IF(シミュレーション※金額入力可能!F50=0,\" \",シミュレーション※金額入力可能!F50)","v":" "},{"$f":"IF(シミュレーション※金額入力可能!F50=0,\"\",IF(IF(情報入力!E$61=シミュレーション※金額入力可能!C50,情報入力!G$61,0)=0,\"\",\"★\"))","v":""},null,{"$f":"IF(シミュレーション※金額入力可能!H50=0,\" \",シミュレーション※金額入力可能!H50)","v":" "}]
[8,"2024-11-01",{"$f":"IF(シミュレーション※金額入力可能!F27=0,\" \",シミュレーション※金額入力可能!F27)","v":" "},{"$f":"IF(シミュレーション※金額入力可能!F27=0,\"\",IF(IF(情報入力!E$57=シミュレーション※金額入力可能!C27,情報入力!G$57,0)=0,\"\",\"★\"))","v":""},null,{"$f":"IF(シミュレーション※金額入力可能!H27=0,\" \",シミュレーション※金額入力可能!H27)","v":" "},null,8,"2026-11-01",{"$f":"IF(シミュレーション※金額入力可能!F51=0,\" \",シミュレーション※金額入力可能!F51)","v":" "},{"$f":"IF(シミュレーション※金額入力可能!F51=0,\"\",IF(IF(情報入力!E$61=シミュレーション※金額入力可能!C51,情報入力!G$61,0)=0,\"\",\"★\"))","v":""},null,{"$f":"IF(シミュレーション※金額入力可能!H51=0,\" \",シミュレーション※金額入力可能!H51)","v":" "}]
[9,"2024-12-01",{"$f":"IF(シミュレーション※金額入力可能!F28=0,\" \",シミュレーション※金額入力可能!F28)","v":" "},{"$f":"IF(シミュレーション※金額入力可能!F28=0,\"\",IF(IF(情報入力!E$57=シミュレーション※金額入力可能!C28,情報入力!G$57,0)=0,\"\",\"★\"))","v":""},null,{"$f":"IF(シミュレーション※金額入力可能!H28=0,\" \",シミュレーション※金額入力可能!H28)","v":" "},null,9,"2026-12-01",{"$f":"IF(シミュレーション※金額入力可能!F52=0,\" \",シミュレーション※金額入力可能!F52)","v":" "},{"$f":"IF(シミュレーション※金額入力可能!F52=0,\"\",IF(IF(情報入力!E$61=シミュレーション※金額入力可能!C52,情報入力!G$61,0)=0,\"\",\"★\"))","v":""},null,{"$f":"IF(シミュレーション※金額入力可能!H52=0,\" \",シミュレーション※金額入力可能!H52)","v":" "}]
[10,"2025-01-01",{"$f":"IF(シミュレーション※金額入力可能!F29=0,\" \",シミュレーション※金額入力可能!F29)","v":" "},{"$f":"IF(シミュレーション※金額入力可能!F29=0,\"\",IF(IF(情報入力!E$57=シミュレーション※金額入力可能!C29,情報入力!G$57,0)=0,\"\",\"★\"))","v":""},null,{"$f":"IF(シミュレーション※金額入力可能!H29=0,\" \",シミュレーション※金額入力可能!H29)","v":" "},null,10,"2027-01-01",{"$f":"IF(シミュレーション※金額入力可能!F53=0,\" \",シミュレーション※金額入力可能!F53)","v":" "},{"$f":"IF(シミュレーション※金額入力可能!F53=0,\"\",IF(IF(情報入力!E$61=シミュレーション※金額入力可能!C53,情報入力!G$61,0)=0,\"\",\"★\"))","v":""},null,{"$f":"IF(シミュレーション※金額入力可能!H53=0,\" \",シミュレーション※金額入力可能!H53)","v":" "}]
[11,"2025-02-01",{"$f":"IF(シミュレーション※金額入力可能!F30=0,\" \",シミュレーション※金額入力可能!F30)","v":" "},{"$f":"IF(シミュレーション※金額入力可能!F30=0,\"\",IF(IF(情報入力!E$57=シミュレーション※金額入力可能!C30,情報入力!G$57,0)=0,\"\",\"★\"))","v":""},null,{"$f":"IF(シミュレーション※金額入力可能!H30=0,\" \",シミュレーション※金額入力可能!H30)","v":" "},null,11,"2027-02-01",{"$f":"IF(シミュレーション※金額入力可能!F54=0,\" \",シミュレーション※金額入力可能!F54)","v":" "},{"$f":"IF(シミュレーション※金額入力可能!F54=0,\"\",IF(IF(情報入力!E$61=シミュレーション※金額入力可能!C54,情報入力!G$61,0)=0,\"\",\"★\"))","v":""},null,{"$f":"IF(シミュレーション※金額入力可能!H54=0,\" \",シミュレーション※金額入力可能!H54)","v":" "}]
[12,"2025-03-01",{"$f":"IF(シミュレーション※金額入力可能!F31=0,\" \",シミュレーション※金額入力可能!F31)","v":" "},{"$f":"IF(シミュレーション※金額入力可能!F31=0,\"\",IF(IF(情報入力!E$57=シミュレーション※金額入力可能!C31,情報入力!G$57,0)=0,\"\",\"★\"))","v":""},null,{"$f":"IF(シミュレーション※金額入力可能!H31=0,\" \",シミュレーション※金額入力可能!H31)","v":" "},null,12,"2027-03-01",{"$f":"IF(シミュレーション※金額入力可能!F55=0,\" \",シミュレーション※金額入力可能!F55)","v":" "},{"$f":"IF(シミュレーション※金額入力可能!F55=0,\"\",IF(IF(情報入力!E$61=シミュレーション※金額入力可能!C55,情報入力!G$61,0)=0,\"\",\"★\"))","v":""},null,{"$f":"IF(シミュレーション※金額入力可能!H55=0,\" \",シミュレーション※金額入力可能!H55)","v":" "}]
[null,"納入合計",{"$f":"SUM(C23:D34)","v":0},null,null,null,null,null,"納入合計",{"$f":"SUM(J23:K34)","v":0}]
[]
[null,"※上記計画の通り、学費等の分割納入制度を申し込みます。事務手数料として15,000円(税別/年数)を指定日までにお納めいただきます。"]